BEGIN:VCALENDAR
VERSION:2.0
PRODID:-//wp-events-plugin.com//7.2.3.1//EN
TZID:America/New_York
X-WR-TIMEZONE:America/New_York
BEGIN:VEVENT
UID:1253@findingconnecticut.com
DTSTART;TZID=America/New_York:20230622T103000
DTEND;TZID=America/New_York:20230622T163000
DTSTAMP:20230517T020246Z
URL:https://findingconnecticut.com/events/the-princess-and-the-frog/
SUMMARY:The Princess and the Frog
DESCRIPTION:The Princess and the Frog\nJune 22\, 2023 •  10:30 am - 4:30
  pm\n\nClick here for more information \n\nThe SoNo Collection\n100 N Wat
 er St\nNorwalk\, CT 06854\nTo add an event please email us\, we monitor fo
 r spam. We need a photo\, description and website for each submission - We
  do not accept submissions that are within the next 3 days. submissions at
  findingconnecticut.com  \n\n&nbsp\;\n\n[caption id="attachment_16083" a
 lign="alignnone" width="300"] shop.findingconnecticut.com[/caption]\n\n&nb
 sp\;
ATTACH;FMTTYPE=image/jpeg:https://findingconnecticut.com/wp-content/upload
 s/2023/05/image003-2.jpg
CATEGORIES:Norwalk
LOCATION:The SoNo Collection\, 100 Watet Street\, Norwalk\, Connecticut \, 
 06854\, New England\, United States
X-APPLE-STRUCTURED-LOCATION;VALUE=URI;X-ADDRESS=100 Watet Street\, Norwalk\
 , Connecticut \, 06854\, New England\, United States;X-APPLE-RADIUS=100;X-
 TITLE=The SoNo Collection:geo:0,0
END:VEVENT
BEGIN:VTIMEZONE
TZID:America/New_York
X-LIC-LOCATION:America/New_York
BEGIN:DAYLIGHT
DTSTART:20230312T030000
TZOFFSETFROM:-0500
TZOFFSETTO:-0400
TZNAME:EDT
END:DAYLIGHT
END:VTIMEZONE
END:VCALENDAR