BEGIN:VCALENDAR
VERSION:2.0
PRODID:-//wp-events-plugin.com//7.2.3.1//EN
TZID:America/New_York
X-WR-TIMEZONE:America/New_York
BEGIN:VEVENT
UID:1263@findingconnecticut.com
DTSTART;TZID=America/New_York:20231207T103000
DTEND;TZID=America/New_York:20231207T163000
DTSTAMP:20230517T134732Z
URL:https://findingconnecticut.com/events/the-polar-express/
SUMMARY:The Polar Express
DESCRIPTION:The Polar Express\nDecember 7 2023 •  10:30 am - 4:30 pm\n\n
  Click here for more information \n\n The SoNo Collection\n100 N Water 
 St\nNorwalk\, CT 06854\nTo add an event please email us\, we monitor for s
 pam. We need a photo\, description and website for each submission - We do
  not accept submissions that are within the next 3 days. submissions at fi
 ndingconnecticut.com  \n\n&nbsp\;\n\n[caption id="attachment_16083" alig
 n="alignnone" width="300"] shop.findingconnecticut.com[/caption]\n\n&nbsp\
 ;
ATTACH;FMTTYPE=image/jpeg:https://findingconnecticut.com/wp-content/upload
 s/2023/05/image003-2.jpg
CATEGORIES:Norwalk
LOCATION:The SoNo Collection\, 100 Watet Street\, Norwalk\, Connecticut \, 
 06854\, New England\, United States
X-APPLE-STRUCTURED-LOCATION;VALUE=URI;X-ADDRESS=100 Watet Street\, Norwalk\
 , Connecticut \, 06854\, New England\, United States;X-APPLE-RADIUS=100;X-
 TITLE=The SoNo Collection:geo:0,0
END:VEVENT
BEGIN:VTIMEZONE
TZID:America/New_York
X-LIC-LOCATION:America/New_York
BEGIN:STANDARD
DTSTART:20231105T010000
TZOFFSETFROM:-0400
TZOFFSETTO:-0500
TZNAME:EST
END:STANDARD
END:VTIMEZONE
END:VCALENDAR