BEGIN:VCALENDAR
VERSION:2.0
PRODID:-//wp-events-plugin.com//7.2.3.1//EN
TZID:America/New_York
X-WR-TIMEZONE:America/New_York
BEGIN:VEVENT
UID:2200@findingconnecticut.com
DTSTART;TZID=America/New_York:20231020T190000
DTEND;TZID=America/New_York:20231020T220000
DTSTAMP:20230808T141517Z
URL:https://findingconnecticut.com/events/the-pharcyde/
SUMMARY:The Pharcyde
DESCRIPTION:The Pharcyde\nOctober 20\, 2023\nClick here for more informatio
 n \n\nTo add an event please email us\, we monitor for spam. We need a ph
 oto\, description and website for each submission - We do not accept submi
 ssions that are within the next 3 days. submissions at findingconnecticut.
 com  \n\n[caption id="attachment_16083" align="alignnone" width="300"] s
 hop.findingconnecticut.com[/caption]
ATTACH;FMTTYPE=image/jpeg:https://findingconnecticut.com/wp-content/upload
 s/2023/08/Screenshot-2023-08-07-at-9.43.35-AM.png
CATEGORIES:Middletown
LOCATION:Harbor Park - Middletown\,  80 Harbor Drive\, Middletown\, Connect
 icut\, 06547\, New England\, United States
X-APPLE-STRUCTURED-LOCATION;VALUE=URI;X-ADDRESS= 80 Harbor Drive\, Middleto
 wn\, Connecticut\, 06547\, New England\, United States;X-APPLE-RADIUS=100;
 X-TITLE=Harbor Park - Middletown:geo:0,0
END:VEVENT
BEGIN:VTIMEZONE
TZID:America/New_York
X-LIC-LOCATION:America/New_York
BEGIN:DAYLIGHT
DTSTART:20230312T030000
TZOFFSETFROM:-0500
TZOFFSETTO:-0400
TZNAME:EDT
END:DAYLIGHT
END:VTIMEZONE
END:VCALENDAR