BEGIN:VCALENDAR
VERSION:2.0
PRODID:-//wp-events-plugin.com//7.2.3.1//EN
TZID:America/New_York
X-WR-TIMEZONE:America/New_York
BEGIN:VEVENT
UID:1262@findingconnecticut.com
DTSTART;TZID=America/New_York:20231116T103000
DTEND;TZID=America/New_York:20231116T163000
DTSTAMP:20230517T134537Z
URL:https://findingconnecticut.com/events/the-nightmare-before-christmas/
SUMMARY:The Nightmare Before Christmas
DESCRIPTION:The Nightmare Before Christmas\nNovember 16\, 2023 •  10:30 
 am - 4:30 pm\n\n Click here for more information \n\n The SoNo Collecti
 on\n100 N Water St\nNorwalk\, CT 06854\nTo add an event please email us\, 
 we monitor for spam. We need a photo\, description and website for each su
 bmission - We do not accept submissions that are within the next 3 days. s
 ubmissions at findingconnecticut.com  \n\n&nbsp\;\n\n[caption id="attach
 ment_16083" align="alignnone" width="300"] shop.findingconnecticut.com[/ca
 ption]\n\n&nbsp\;
ATTACH;FMTTYPE=image/jpeg:https://findingconnecticut.com/wp-content/upload
 s/2023/05/image003-2.jpg
CATEGORIES:Norwalk
LOCATION:The SoNo Collection\, 100 Watet Street\, Norwalk\, Connecticut \, 
 06854\, New England\, United States
X-APPLE-STRUCTURED-LOCATION;VALUE=URI;X-ADDRESS=100 Watet Street\, Norwalk\
 , Connecticut \, 06854\, New England\, United States;X-APPLE-RADIUS=100;X-
 TITLE=The SoNo Collection:geo:0,0
END:VEVENT
BEGIN:VTIMEZONE
TZID:America/New_York
X-LIC-LOCATION:America/New_York
BEGIN:STANDARD
DTSTART:20231105T010000
TZOFFSETFROM:-0400
TZOFFSETTO:-0500
TZNAME:EST
END:STANDARD
END:VTIMEZONE
END:VCALENDAR