BEGIN:VCALENDAR
VERSION:2.0
PRODID:-//wp-events-plugin.com//7.2.3.1//EN
TZID:America/New_York
X-WR-TIMEZONE:America/New_York
BEGIN:VEVENT
UID:6580@findingconnecticut.com
DTSTART;TZID=America/New_York:20250319T193000
DTEND;TZID=America/New_York:20250319T220000
DTSTAMP:20240629T213445Z
URL:https://findingconnecticut.com/events/the-irish-and-how-they-got-that-
 way-6/
SUMMARY:The Irish... And How They Got That Way
DESCRIPTION:The Irish... And How They Got That Way\nMarch 19\, 2025\n\n Cl
 ick here for more information \n\n  Playhouse on Park\n244 Park Road\nWe
 st Hartford\, CT 06119\n\nTo add an event please email us\, we monitor for
  spam. We need a photo\, description and website for each s    submissio
 n - We do not accept submissions that are within the next 3 days. submissi
 ons at findingconnecticut.com\n\n[caption id="attachment_16083" align="ali
 gnnone" width="300"] shop.findingconnecticut.com[/caption]\n\n 
ATTACH;FMTTYPE=image/jpeg:https://findingconnecticut.com/wp-content/upload
 s/2024/04/IMG_4500.jpeg
CATEGORIES:West Hartford
LOCATION:Playhouse on Park\, 244 Park Road\, West Hartford \, Connecticut \
 , 06119\, New England \, United States
X-APPLE-STRUCTURED-LOCATION;VALUE=URI;X-ADDRESS=244 Park Road\, West Hartfo
 rd \, Connecticut \, 06119\, New England \, United States;X-APPLE-RADIUS=1
 00;X-TITLE=Playhouse on Park:geo:0,0
END:VEVENT
BEGIN:VTIMEZONE
TZID:America/New_York
X-LIC-LOCATION:America/New_York
BEGIN:DAYLIGHT
DTSTART:20250309T030000
TZOFFSETFROM:-0500
TZOFFSETTO:-0400
TZNAME:EDT
END:DAYLIGHT
END:VTIMEZONE
END:VCALENDAR