BEGIN:VCALENDAR
VERSION:2.0
PRODID:-//wp-events-plugin.com//7.2.3.1//EN
TZID:America/New_York
X-WR-TIMEZONE:America/New_York
BEGIN:VEVENT
UID:5836@findingconnecticut.com
DTSTART;TZID=America/New_York:20240714T200000
DTEND;TZID=America/New_York:20240714T223000
DTSTAMP:20240503T220732Z
URL:https://findingconnecticut.com/events/the-heirs-collective/
SUMMARY:The HEIRS Collective
DESCRIPTION:The HEIRS Collective\nJuly 14\,  2024  •  8 PM\n Click he
 re for more information \n\n Space Ballroom\n425 Treadwell Street\nHamde
 n\, CT 06514\n\nTo add an event please email us\, we monitor for spam. We 
 need a photo\, description and website for each submission - We do not acc
 ept submissions that are within the next 3 days. submissions at findingcon
 necticut.com\n\n[caption id="attachment_16083" align="alignnone" width="30
 0"] shop.findingconnecticut.com[/caption]\n\n 
ATTACH;FMTTYPE=image/jpeg:https://findingconnecticut.com/wp-content/upload
 s/2024/04/thehirs_preview-scaled.jpg
CATEGORIES:Hamden
LOCATION:Space Ballroom\, 295 Treadwell St\,\,  Hamden\, \, Connecticut\, \
 , 06514\, United States
X-APPLE-STRUCTURED-LOCATION;VALUE=URI;X-ADDRESS=295 Treadwell St\,\,  Hamde
 n\, \, Connecticut\, \, 06514\, United States;X-APPLE-RADIUS=100;X-TITLE=S
 pace Ballroom:geo:0,0
END:VEVENT
BEGIN:VTIMEZONE
TZID:America/New_York
X-LIC-LOCATION:America/New_York
BEGIN:DAYLIGHT
DTSTART:20240310T030000
TZOFFSETFROM:-0500
TZOFFSETTO:-0400
TZNAME:EDT
END:DAYLIGHT
END:VTIMEZONE
END:VCALENDAR