BEGIN:VCALENDAR
VERSION:2.0
PRODID:-//wp-events-plugin.com//7.2.3.1//EN
TZID:America/New_York
X-WR-TIMEZONE:America/New_York
BEGIN:VEVENT
UID:522@findingconnecticut.com
DTSTART;TZID=America/New_York:20230526T200000
DTEND;TZID=America/New_York:20230526T223000
DTSTAMP:20230222T164433Z
URL:https://findingconnecticut.com/events/the-front-bottoms-with-ajj/
SUMMARY:The Front Bottoms with AJJ
DESCRIPTION:The Front Bottoms with AJJ\nMay 26\, 2023  •  8 PM\n•\nC
 lick here for more information \n•\nCollege Street Music Hall\n238 Coll
 ege Street\nNew Haven\, CT 06510\n•\nTo add an event please email us\, w
 e monitor for spam. We need a photo\, description and website for each sub
 mission - We do not accept submissions that are within the next 3 days. su
 bmissions@findingconnecticut.com\n•\n\n[caption id="attachment_16083" al
 ign="alignnone" width="300"] shop.findingconnecticut.com[/caption]\n\n&nbs
 p\;
ATTACH;FMTTYPE=image/jpeg:https://findingconnecticut.com/wp-content/upload
 s/2023/02/Screenshot-2023-02-22-at-10.59.30-AM.png
CATEGORIES:New Haven
LOCATION:College Street Music Hall\, 238 College St\, \, New Haven\, \, Con
 necticut \, 06510\, New England \, United States
X-APPLE-STRUCTURED-LOCATION;VALUE=URI;X-ADDRESS=238 College St\, \, New Hav
 en\, \, Connecticut \, 06510\, New England \, United States;X-APPLE-RADIUS
 =100;X-TITLE=College Street Music Hall:geo:0,0
END:VEVENT
BEGIN:VTIMEZONE
TZID:America/New_York
X-LIC-LOCATION:America/New_York
BEGIN:DAYLIGHT
DTSTART:20230312T030000
TZOFFSETFROM:-0500
TZOFFSETTO:-0400
TZNAME:EDT
END:DAYLIGHT
END:VTIMEZONE
END:VCALENDAR