BEGIN:VCALENDAR
VERSION:2.0
PRODID:-//wp-events-plugin.com//7.2.3.1//EN
TZID:America/New_York
X-WR-TIMEZONE:America/New_York
BEGIN:VEVENT
UID:2443@findingconnecticut.com
DTSTART;TZID=America/New_York:20230826T200000
DTEND;TZID=America/New_York:20230826T220000
DTSTAMP:20230825T150911Z
URL:https://findingconnecticut.com/events/the-fantasticks/
SUMMARY:The Fantasticks
DESCRIPTION:The Fantasticks\nAugust 26\, 2023 • 8 PM\nClick here for more
  information \n\nTo add an event please email us\, we monitor for spam. W
 e need a photo\, description and website for each submission - We do not a
 ccept submissions that are within the next 3 days. submissions at findingc
 onnecticut.com\n\n[caption id="attachment_16083" align="alignnone" width="
 300"] shop.findingconnecticut.com[/caption]\n\n 
ATTACH;FMTTYPE=image/jpeg:https://findingconnecticut.com/wp-content/upload
 s/2023/08/IMG_1668-1200x675-1.jpg
CATEGORIES:New Canaan
LOCATION:Town Players of New Canaan\, Waveny Park\, New Canaan\, Connecticu
 t \, 06840\, New England\, United States
X-APPLE-STRUCTURED-LOCATION;VALUE=URI;X-ADDRESS=Waveny Park\, New Canaan\, 
 Connecticut \, 06840\, New England\, United States;X-APPLE-RADIUS=100;X-TI
 TLE=Town Players of New Canaan:geo:0,0
END:VEVENT
BEGIN:VTIMEZONE
TZID:America/New_York
X-LIC-LOCATION:America/New_York
BEGIN:DAYLIGHT
DTSTART:20230312T030000
TZOFFSETFROM:-0500
TZOFFSETTO:-0400
TZNAME:EDT
END:DAYLIGHT
END:VTIMEZONE
END:VCALENDAR