BEGIN:VCALENDAR
VERSION:2.0
PRODID:-//wp-events-plugin.com//7.2.3.1//EN
TZID:America/New_York
X-WR-TIMEZONE:America/New_York
BEGIN:VEVENT
UID:2501@findingconnecticut.com
DTSTART;TZID=America/New_York:20231014T200000
DTEND;TZID=America/New_York:20231014T223000
DTSTAMP:20230826T010904Z
URL:https://findingconnecticut.com/events/the-dollyrot/
SUMMARY:the Dollyrot
DESCRIPTION:the Dollyrot\nOctober 14\, 2023  • 8 PM\n Click here for mo
 re information \n Cafe Nine\n 250 State St\nNew Haven\, CT 06510\n\nTo 
 add an event please email us\, we monitor for spam. We need a photo\, desc
 ription and website for each submission - We do not accept submissions tha
 t are within the next 3 days. submissions at findingconnecticut.com  \n\
 n[caption id="attachment_16083" align="alignnone" width="300"] shop.findin
 gconnecticut.com[/caption]
ATTACH;FMTTYPE=image/jpeg:https://findingconnecticut.com/wp-content/upload
 s/2023/08/thedollyrots-to-peform-in-new-haven-and-hamden-1.png
CATEGORIES:New Haven
LOCATION:Cafe Nine\, 250 State Street\, New Haven\, Connecticut \, 06510\, 
 United States
X-APPLE-STRUCTURED-LOCATION;VALUE=URI;X-ADDRESS=250 State Street\, New Have
 n\, Connecticut \, 06510\, United States;X-APPLE-RADIUS=100;X-TITLE=Cafe N
 ine:geo:0,0
END:VEVENT
BEGIN:VTIMEZONE
TZID:America/New_York
X-LIC-LOCATION:America/New_York
BEGIN:DAYLIGHT
DTSTART:20230312T030000
TZOFFSETFROM:-0500
TZOFFSETTO:-0400
TZNAME:EDT
END:DAYLIGHT
END:VTIMEZONE
END:VCALENDAR