BEGIN:VCALENDAR
VERSION:2.0
PRODID:-//wp-events-plugin.com//7.2.3.1//EN
TZID:America/New_York
X-WR-TIMEZONE:America/New_York
BEGIN:VEVENT
UID:14947@findingconnecticut.com
DTSTART;TZID=America/New_York:20260612T190000
DTEND;TZID=America/New_York:20260612T210000
DTSTAMP:20260407T203430Z
URL:https://findingconnecticut.com/events/the-disco-biscuits-levitt-pavili
 on-westport-ct-june-12-2026/
SUMMARY:The Disco Biscuits
DESCRIPTION:The Disco Biscuits\nJune 12\, 2026\n\n For more information\, 
 click here \n Levitt Pavilion \n40 Jessup Road\nWestport\, CT 06880\n\n
 \n[caption id="attachment_16083" align="alignnone" width="300"] shop.findi
 ngconnecticut.com[/caption]
ATTACH;FMTTYPE=image/jpeg:https://findingconnecticut.com/wp-content/upload
 s/2026/04/aa91953f-c456-58d1-eca7-aeaa057422aa.png
CATEGORIES:Westport
LOCATION:Levitt Pavilion\, 40 Jessup Road\, Westport \, Connecticut \, 0688
 0\, United States
X-APPLE-STRUCTURED-LOCATION;VALUE=URI;X-ADDRESS=40 Jessup Road\, Westport \
 , Connecticut \, 06880\, United States;X-APPLE-RADIUS=100;X-TITLE=Levitt P
 avilion:geo:0,0
END:VEVENT
BEGIN:VTIMEZONE
TZID:America/New_York
X-LIC-LOCATION:America/New_York
BEGIN:DAYLIGHT
DTSTART:20260308T030000
TZOFFSETFROM:-0500
TZOFFSETTO:-0400
TZNAME:EDT
END:DAYLIGHT
END:VTIMEZONE
END:VCALENDAR