BEGIN:VCALENDAR
VERSION:2.0
PRODID:-//wp-events-plugin.com//7.2.3.1//EN
TZID:America/New_York
X-WR-TIMEZONE:America/New_York
BEGIN:VEVENT
UID:14739@findingconnecticut.com
DTSTART;TZID=America/New_York:20260626T200000
DTEND;TZID=America/New_York:20260626T220000
DTSTAMP:20260310T152923Z
URL:https://findingconnecticut.com/events/the-dip-district-music-hall-norw
 alk-ct-june-26-2026/
SUMMARY:The Dip
DESCRIPTION:The Dip\nJune 26 2026\n\n Click here for more information \n\
 nDistrict Music Hall\n71 Wall Street\nNorwalk\, Connecticut 06850\nAs of M
 arch 2025\, all event listings require payment.\nTo submit your event\, pl
 ease send the event details along with a photo and/or logo to submissions 
 at findingconnecticut dot com. You can complete your payment here\nYour e
 vent will be published within 24 hours after both payment and all required
  information have been received.\nWe offer discounts for multiple event li
 stings.\nThank you for supporting Finding Connecticut—your participatio
 n helps us grow our website and brand.\n\n\n[caption id="attachment_16083"
  align="alignnone" width="300"] shop.findingconnecticut.com[/caption]
ATTACH;FMTTYPE=image/jpeg:https://findingconnecticut.com/wp-content/upload
 s/2024/03/District-Music-Hall-Outside-1.jpg
CATEGORIES:Norwalk
LOCATION:District Music Hall\, 71 Wall Street\, Norwalk\, Connecticut \, 06
 850\, New England \, United States
X-APPLE-STRUCTURED-LOCATION;VALUE=URI;X-ADDRESS=71 Wall Street\, Norwalk\, 
 Connecticut \, 06850\, New England \, United States;X-APPLE-RADIUS=100;X-T
 ITLE=District Music Hall:geo:0,0
END:VEVENT
BEGIN:VTIMEZONE
TZID:America/New_York
X-LIC-LOCATION:America/New_York
BEGIN:DAYLIGHT
DTSTART:20260308T030000
TZOFFSETFROM:-0500
TZOFFSETTO:-0400
TZNAME:EDT
END:DAYLIGHT
END:VTIMEZONE
END:VCALENDAR