BEGIN:VCALENDAR
VERSION:2.0
PRODID:-//wp-events-plugin.com//7.2.3.1//EN
TZID:America/New_York
X-WR-TIMEZONE:America/New_York
BEGIN:VEVENT
UID:2338@findingconnecticut.com
DTSTART;TZID=America/New_York:20231001T140000
DTEND;TZID=America/New_York:20231001T163000
DTSTAMP:20230820T154347Z
URL:https://findingconnecticut.com/events/the-complete-works-of-jane-auste
 n-abridged/
SUMMARY:The Complete Works of Jane Austen (Abridged)
DESCRIPTION:The Complete Works of Jane Austen (Abridged)\nOctober 3\, 2023 
  •  2 PM\n\nClick here for more information \n\n  Playhouse on Park\
 n244 Park Road\nWest Hartford\, CT 06119\n\nTo add an event please email u
 s\, we monitor for spam. We need a photo\, description and website for eac
 h s    submission - We do not accept submissions that are within the nex
 t 3 days. submissions at findingconnecticut.com\n\n[caption id="attachment
 _16083" align="alignnone" width="300"] shop.findingconnecticut.com[/captio
 n]\n\n 
ATTACH;FMTTYPE=image/jpeg:https://findingconnecticut.com/wp-content/upload
 s/2023/08/jane-austen.jpg
CATEGORIES:West Hartford
LOCATION:Playhouse on Park\, 244 Park Road\, West Hartford \, Connecticut \
 , 06119\, New England \, United States
X-APPLE-STRUCTURED-LOCATION;VALUE=URI;X-ADDRESS=244 Park Road\, West Hartfo
 rd \, Connecticut \, 06119\, New England \, United States;X-APPLE-RADIUS=1
 00;X-TITLE=Playhouse on Park:geo:0,0
END:VEVENT
BEGIN:VTIMEZONE
TZID:America/New_York
X-LIC-LOCATION:America/New_York
BEGIN:DAYLIGHT
DTSTART:20230312T030000
TZOFFSETFROM:-0500
TZOFFSETTO:-0400
TZNAME:EDT
END:DAYLIGHT
END:VTIMEZONE
END:VCALENDAR