BEGIN:VCALENDAR
VERSION:2.0
PRODID:-//wp-events-plugin.com//7.2.3.1//EN
TZID:America/New_York
X-WR-TIMEZONE:America/New_York
BEGIN:VEVENT
UID:6096@findingconnecticut.com
DTSTART;TZID=America/New_York:20240608T080000
DTEND;TZID=America/New_York:20240608T100000
DTSTAMP:20240511T121235Z
URL:https://findingconnecticut.com/events/the-bakers-wife-2024-06-08/
SUMMARY:The Baker's Wife
DESCRIPTION:The Baker's Wife\n  Click here for more information \n\nRidge
 field Theater Barn\n37 Halpin Ln\nRidgefield\, CT 06877\n\nShare your Ridg
 efield Theater Barn experience with us by using #findingconnecticut on I
 nstagram\nClick here for the latest news at Ridgefield Theater Barn\nClick
  here for the upcoming events at Ridgefield Theater Barn\nClick here for t
 he latest news in Ridgefield\nClick here for the upcoming events in Ridgef
 ield\nClick here for the upcoming events in Fairfield County\nClick here f
 or the latest news in Fairfield County\n\nTo add an event please email us\
 , we monitor for spam. We need a photo\, description and website for each 
 submission - We do not accept submissions that are within the next 3 days.
  submissions at findingconnecticut.com
ATTACH;FMTTYPE=image/jpeg:https://findingconnecticut.com/wp-content/upload
 s/2024/05/the-bakers-wife-at-ridgefield-theater-barn_preview-scaled.jpg
CATEGORIES:Ridgefield
LOCATION:Ridgefield Theater Barn\, 37 Halpin Ln\, Ridgefield\, Connecticut\
 , 06877\, New England\, United States
X-APPLE-STRUCTURED-LOCATION;VALUE=URI;X-ADDRESS=37 Halpin Ln\, Ridgefield\,
  Connecticut\, 06877\, New England\, United States;X-APPLE-RADIUS=100;X-TI
 TLE=Ridgefield Theater Barn:geo:0,0
END:VEVENT
BEGIN:VTIMEZONE
TZID:America/New_York
X-LIC-LOCATION:America/New_York
BEGIN:DAYLIGHT
DTSTART:20240310T030000
TZOFFSETFROM:-0500
TZOFFSETTO:-0400
TZNAME:EDT
END:DAYLIGHT
END:VTIMEZONE
END:VCALENDAR