BEGIN:VCALENDAR
VERSION:2.0
PRODID:-//wp-events-plugin.com//7.2.3.1//EN
TZID:America/New_York
X-WR-TIMEZONE:America/New_York
BEGIN:VEVENT
UID:6102@findingconnecticut.com
DTSTART;TZID=America/New_York:20240616T170000
DTEND;TZID=America/New_York:20240616T190000
DTSTAMP:20240511T122705Z
URL:https://findingconnecticut.com/events/the-bakers-wife-2/
SUMMARY:The Baker's Wife
DESCRIPTION:The Baker's Wife\nJune 16\, 2024 • 5 pm\n\n  Click here for 
 more information \n\nRidgefield Theater Barn\n37 Halpin Ln\nRidgefield\, 
 CT 06877\n\nShare your Ridgefield Theater Barn experience with us by using
  #findingconnecticut on Instagram\nClick here for the latest news at Rid
 gefield Theater Barn\nClick here for the upcoming events at Ridgefield The
 ater Barn\nClick here for the latest news in Ridgefield\nClick here for th
 e upcoming events in Ridgefield\nClick here for the upcoming events in Fai
 rfield County\nClick here for the latest news in Fairfield County\n\nTo ad
 d an event please email us\, we monitor for spam. We need a photo\, descri
 ption and website for each submission - We do not accept submissions that 
 are within the next 3 days. submissions at findingconnecticut.com
CATEGORIES:Ridegefield,Ridgefield
LOCATION:Ridgefield Theater Barn\, 37 Halpin Ln\, Ridgefield\, Connecticut\
 , 06877\, New England\, United States
X-APPLE-STRUCTURED-LOCATION;VALUE=URI;X-ADDRESS=37 Halpin Ln\, Ridgefield\,
  Connecticut\, 06877\, New England\, United States;X-APPLE-RADIUS=100;X-TI
 TLE=Ridgefield Theater Barn:geo:0,0
END:VEVENT
BEGIN:VTIMEZONE
TZID:America/New_York
X-LIC-LOCATION:America/New_York
BEGIN:DAYLIGHT
DTSTART:20240310T030000
TZOFFSETFROM:-0500
TZOFFSETTO:-0400
TZNAME:EDT
END:DAYLIGHT
END:VTIMEZONE
END:VCALENDAR