BEGIN:VCALENDAR
VERSION:2.0
PRODID:-//wp-events-plugin.com//7.2.3.1//EN
TZID:America/New_York
X-WR-TIMEZONE:America/New_York
BEGIN:VEVENT
UID:14204@findingconnecticut.com
DTSTART;TZID=America/New_York:20260910T200000
DTEND;TZID=America/New_York:20260910T223000
DTSTAMP:20260223T183438Z
URL:https://findingconnecticut.com/events/the-australian-pink-floyd-show-m
 ohegan-sun-ct-september-10-2026/
SUMMARY:The Australian Pink Floyd Show
DESCRIPTION:The Australian Pink Floyd Show\nSeptember 10\, 2026  •  8:0
 0 pm\n\n Click here for more information \n\n Mohegan Sun \n1 Mohegan 
 Sun Blvd.\nUncasville\, CT 06382\nAs of March 2025\, all event listings re
 quire payment.\nTo submit your event\, please send the event details along
  with a photo and/or logo to submissions at findingconnecticut dot com. Yo
 u can complete your payment here\nYour event will be published within 24 
 hours after both payment and all required information have been received.\
 nWe offer discounts for multiple event listings.\nThank you for supporting
  Finding Connecticut—your participation helps us grow our website and b
 rand.\n(We do not publish any content that has to do with areas outside of
  Connecticut. If you are looking to post on our Hudson Valley or New York 
 City pages\, then contact us via email.)\n Click here to return to Findin
 g Connecticut's home page\n\n[caption id="attachment_16083" align="alignno
 ne" width="300"] shop.findingconnecticut.com[/caption]
ATTACH;FMTTYPE=image/jpeg:https://findingconnecticut.com/wp-content/upload
 s/2026/02/vcsPRAsset_2929240_175150_ed4cde25-8eb0-47af-bfc5-cf81580e2810_0
 .jpg
CATEGORIES:Uncasville
LOCATION:Mohegan Sun\, 1 Mohegan Sun Blvd\, \, Uncasville\, \, Connecticut\
 , \, 06382\, New England \, United States
X-APPLE-STRUCTURED-LOCATION;VALUE=URI;X-ADDRESS=1 Mohegan Sun Blvd\, \, Unc
 asville\, \, Connecticut\, \, 06382\, New England \, United States;X-APPLE
 -RADIUS=100;X-TITLE=Mohegan Sun:geo:0,0
END:VEVENT
BEGIN:VTIMEZONE
TZID:America/New_York
X-LIC-LOCATION:America/New_York
BEGIN:DAYLIGHT
DTSTART:20260308T030000
TZOFFSETFROM:-0500
TZOFFSETTO:-0400
TZNAME:EDT
END:DAYLIGHT
END:VTIMEZONE
END:VCALENDAR