BEGIN:VCALENDAR
VERSION:2.0
PRODID:-//wp-events-plugin.com//7.2.3.1//EN
TZID:America/New_York
X-WR-TIMEZONE:America/New_York
BEGIN:VEVENT
UID:244@findingconnecticut.com
DTSTART;TZID=America/New_York:20230308T193000
DTEND;TZID=America/New_York:20230308T220000
DTSTAMP:20230213T213744Z
URL:https://findingconnecticut.com/events/the-art-of-burning-2023-03-08/
SUMMARY:The Art of Burning
DESCRIPTION:The Art of Burning \n7:30 PM\n\nFor more information click her
 e \n\nHartford Stage \n50 Church Street\nHartford\, CT 06103\n\n[caption
  id="attachment_16083" align="alignnone" width="300"] shop.findingconnecti
 cut.com[/caption]\n\n&nbsp\;
ATTACH;FMTTYPE=image/jpeg:https://findingconnecticut.com/wp-content/upload
 s/2023/02/FY23_Art-of-Burning_Art_Vert_WEBSITE-scaled-475x675-1.jpg
CATEGORIES:Hartford
LOCATION:Hartford Stage\, 50 Church Street \, Hartford\, Connecticut \, 061
 03\, United States
X-APPLE-STRUCTURED-LOCATION;VALUE=URI;X-ADDRESS=50 Church Street \, Hartfor
 d\, Connecticut \, 06103\, United States;X-APPLE-RADIUS=100;X-TITLE=Hartfo
 rd Stage:geo:0,0
END:VEVENT
BEGIN:VTIMEZONE
TZID:America/New_York
X-LIC-LOCATION:America/New_York
BEGIN:STANDARD
DTSTART:20221106T010000
TZOFFSETFROM:-0400
TZOFFSETTO:-0500
TZNAME:EST
END:STANDARD
END:VTIMEZONE
END:VCALENDAR