BEGIN:VCALENDAR
VERSION:2.0
PRODID:-//wp-events-plugin.com//7.2.3.1//EN
TZID:America/New_York
X-WR-TIMEZONE:America/New_York
BEGIN:VEVENT
UID:6168@findingconnecticut.com
DTSTART;TZID=America/New_York:20240705T200000
DTEND;TZID=America/New_York:20240705T230000
DTSTAMP:20240525T210413Z
URL:https://findingconnecticut.com/events/the-80s-rock-tour/
SUMMARY:The 80's Rock Tour
DESCRIPTION:The 80's Rock Tour\nJuly 5\, 2024\n\nClick here for more inform
 ation \n Mohegan Sun \n1 Mohegan Sun Blvd.\nUncasville\, CT 06382\nClic
 k here to return to Finding Connecticut's home page\nTo add an event pleas
 e email us\, we monitor for spam. We need a photo\, description and websit
 e for each submission - We do not accept submissions that are within the n
 ext 3 days. submissions@findingconnecticut.com\n\n\n[caption id="attachmen
 t_16083" align="alignnone" width="300"] shop.findingconnecticut.com[/capti
 on]
ATTACH;FMTTYPE=image/jpeg:https://findingconnecticut.com/wp-content/upload
 s/2024/05/the-80s-rock-tour-at-mohegan-sun_preview-scaled.jpg
CATEGORIES:Uncasville
LOCATION:Mohegan Sun\, 1 Mohegan Sun Blvd\, \, Uncasville\, \, Connecticut\
 , \, 06382\, New England \, United States
X-APPLE-STRUCTURED-LOCATION;VALUE=URI;X-ADDRESS=1 Mohegan Sun Blvd\, \, Unc
 asville\, \, Connecticut\, \, 06382\, New England \, United States;X-APPLE
 -RADIUS=100;X-TITLE=Mohegan Sun:geo:0,0
END:VEVENT
BEGIN:VTIMEZONE
TZID:America/New_York
X-LIC-LOCATION:America/New_York
BEGIN:DAYLIGHT
DTSTART:20240310T030000
TZOFFSETFROM:-0500
TZOFFSETTO:-0400
TZNAME:EDT
END:DAYLIGHT
END:VTIMEZONE
END:VCALENDAR