BEGIN:VCALENDAR
VERSION:2.0
PRODID:-//wp-events-plugin.com//7.2.3.1//EN
TZID:America/New_York
X-WR-TIMEZONE:America/New_York
BEGIN:VEVENT
UID:13838@findingconnecticut.com
DTSTART;TZID=America/New_York:20260905T190000
DTEND;TZID=America/New_York:20260905T223000
DTSTAMP:20260216T165218Z
URL:https://findingconnecticut.com/events/tedeschi-trucks-band-hartford-he
 althcare-amp-bridgeport-ct-september-5-2026/
SUMMARY:Tedeschi Trucks Band
DESCRIPTION:Tedeschi Trucks Band\nSeptember 5\, 2026\n\nClick here for more
  information \n\n Hartford Healthcare Amphitheater\n 500 Broad Street\n
  Bridgeport\, CT 06604\n\n Click here to return to Finding Connecticut's
  home page\nAs of March 2025\, all event listings require payment.\nTo sub
 mit your event\, please send the event details along with a photo and/or l
 ogo to submissions at findingconnecticut dot com. You can complete your pa
 yment here\nYour event will be published within 24 hours after both payme
 nt and all required information have been received.\nWe offer discounts fo
 r multiple event listings.\nThank you for supporting Finding Connecticut
 —your participation helps us grow our website and brand.\n\n\n[caption i
 d="attachment_16083" align="alignnone" width="300"] shop.findingconnecticu
 t.com[/caption]
ATTACH;FMTTYPE=image/jpeg:https://findingconnecticut.com/wp-content/upload
 s/2026/01/TTB-Band-Photo.jpg
CATEGORIES:Bridgeport
LOCATION:Hartford HealthCare Amphitheater\, 500 Broad St\, \, Bridgeport\, 
 \, Connecticut\, \, 06604\,\, New England\, \, United States
X-APPLE-STRUCTURED-LOCATION;VALUE=URI;X-ADDRESS=500 Broad St\, \, Bridgepor
 t\, \, Connecticut\, \, 06604\,\, New England\, \, United States;X-APPLE-R
 ADIUS=100;X-TITLE=Hartford HealthCare Amphitheater:geo:0,0
END:VEVENT
BEGIN:VTIMEZONE
TZID:America/New_York
X-LIC-LOCATION:America/New_York
BEGIN:DAYLIGHT
DTSTART:20260308T030000
TZOFFSETFROM:-0500
TZOFFSETTO:-0400
TZNAME:EDT
END:DAYLIGHT
END:VTIMEZONE
END:VCALENDAR