BEGIN:VCALENDAR
VERSION:2.0
PRODID:-//wp-events-plugin.com//7.2.3.1//EN
TZID:America/New_York
X-WR-TIMEZONE:America/New_York
BEGIN:VEVENT
UID:1982@findingconnecticut.com
DTSTART;TZID=America/New_York:20230829T183000
DTEND;TZID=America/New_York:20230829T210000
DTSTAMP:20230719T171611Z
URL:https://findingconnecticut.com/events/taste-of-mexico/
SUMMARY:Taste of Mexico
DESCRIPTION:Taste of Mexico\nAugust 29\, 2023\nClick here for more informat
 ion \n\nPenfield Beach  \n323 Fairfield Beach Rd\nFairfield\, CT 06824\n
 \nTo add an event please email us\, we monitor for spam. We need a photo\,
  description and website for each submission - We do not accept submission
 s that are within the next 3 days. submissions at findingconnecticut.com 
  \n\n[caption id="attachment_16083" align="alignnone" width="300"] shop.f
 indingconnecticut.com[/caption]
ATTACH;FMTTYPE=image/jpeg:https://findingconnecticut.com/wp-content/upload
 s/2023/07/DSC_4157_Original.jpg
CATEGORIES:Fairfield
LOCATION:Penfield Beach\,  323 Fairfield Beach Rd\, Fairfield\, Connecticut
  \, 06824\, New England\, United States
X-APPLE-STRUCTURED-LOCATION;VALUE=URI;X-ADDRESS= 323 Fairfield Beach Rd\, F
 airfield\, Connecticut \, 06824\, New England\, United States;X-APPLE-RADI
 US=100;X-TITLE=Penfield Beach:geo:0,0
END:VEVENT
BEGIN:VTIMEZONE
TZID:America/New_York
X-LIC-LOCATION:America/New_York
BEGIN:DAYLIGHT
DTSTART:20230312T030000
TZOFFSETFROM:-0500
TZOFFSETTO:-0400
TZNAME:EDT
END:DAYLIGHT
END:VTIMEZONE
END:VCALENDAR