BEGIN:VCALENDAR
VERSION:2.0
PRODID:-//wp-events-plugin.com//7.2.3.1//EN
TZID:America/New_York
X-WR-TIMEZONE:America/New_York
BEGIN:VEVENT
UID:5193@findingconnecticut.com
DTSTART;TZID=America/New_York:20240315T100000
DTEND;TZID=America/New_York:20240315T170000
DTSTAMP:20240126T182230Z
URL:https://findingconnecticut.com/events/tablescapes/
SUMMARY:Tablescapes
DESCRIPTION:Tablescapes\nMarch 15\, 2024\n Click here for more information
  \nTo add an event please email us\, we monitor for spam. We need a photo
 \, description and website for each submission - We do not accept submissi
 ons that are within the next 3 days. submissions at findingconnecticut.com
 \n&nbsp\;\n\n[caption id="attachment_16083" align="alignnone" width="300"]
  shop.findingconnecticut.com[/caption]
ATTACH;FMTTYPE=image/jpeg:https://findingconnecticut.com/wp-content/upload
 s/2024/01/2023-Mar-16-AHS-Tablescapes-sm-38.jpg
CATEGORIES:Avon
LOCATION:The North House\,  1 Nod Rd\, Avon\, Connecticut\, 06001\, New Eng
 land\, United States
X-APPLE-STRUCTURED-LOCATION;VALUE=URI;X-ADDRESS= 1 Nod Rd\, Avon\, Connecti
 cut\, 06001\, New England\, United States;X-APPLE-RADIUS=100;X-TITLE=The N
 orth House:geo:0,0
END:VEVENT
BEGIN:VTIMEZONE
TZID:America/New_York
X-LIC-LOCATION:America/New_York
BEGIN:DAYLIGHT
DTSTART:20240310T030000
TZOFFSETFROM:-0500
TZOFFSETTO:-0400
TZNAME:EDT
END:DAYLIGHT
END:VTIMEZONE
END:VCALENDAR