BEGIN:VCALENDAR
VERSION:2.0
PRODID:-//wp-events-plugin.com//7.2.3.1//EN
TZID:America/New_York
X-WR-TIMEZONE:America/New_York
BEGIN:VEVENT
UID:6122@findingconnecticut.com
DTSTART;TZID=America/New_York:20240629T060000
DTEND;TZID=America/New_York:20240629T100000
DTSTAMP:20240511T143153Z
URL:https://findingconnecticut.com/events/swim-across-america-fairfield-co
 unty-2/
SUMMARY:Swim Across America Fairfield County 
DESCRIPTION:Swim Across America Fairfield County\n June 29\, 2024\n Click
  here for more information \n\n\n\n To add an event please email us\, we
  monitor for spam. We need a photo\, description and website for each subm
 ission - We do not accept submissions that are within the next 3 days. sub
 missions at findingconnecticut.com  \n\n[caption id="attachment_16083" a
 lign="alignnone" width="300"] shop.findingconnecticut.com[/caption]\n\n
ATTACH;FMTTYPE=image/jpeg:https://findingconnecticut.com/wp-content/upload
 s/2024/05/52999226719_ebb3b91ebb_k.jpg
CATEGORIES:Stamford
LOCATION:Swim Across America Fairfield County\, 96 Cummings Point Road\, St
 amford\, Connecticut\, 06902\, New England \, United States
X-APPLE-STRUCTURED-LOCATION;VALUE=URI;X-ADDRESS=96 Cummings Point Road\, St
 amford\, Connecticut\, 06902\, New England \, United States;X-APPLE-RADIUS
 =100;X-TITLE=Swim Across America Fairfield County:geo:0,0
END:VEVENT
BEGIN:VTIMEZONE
TZID:America/New_York
X-LIC-LOCATION:America/New_York
BEGIN:DAYLIGHT
DTSTART:20240310T030000
TZOFFSETFROM:-0500
TZOFFSETTO:-0400
TZNAME:EDT
END:DAYLIGHT
END:VTIMEZONE
END:VCALENDAR