BEGIN:VCALENDAR
VERSION:2.0
PRODID:-//wp-events-plugin.com//7.2.3.1//EN
TZID:America/New_York
X-WR-TIMEZONE:America/New_York
BEGIN:VEVENT
UID:5212@findingconnecticut.com
DTSTART;TZID=America/New_York:20240228T080000
DTEND;TZID=America/New_York:20240228T160000
DTSTAMP:20240130T014655Z
URL:https://findingconnecticut.com/events/swap-meet-3/
SUMMARY:Swap Meet
DESCRIPTION:Swap Meet\nFebruary 28\, 2024\n Click here for more informatio
 n \n\nVintage Radio &amp\; Communications Museum\n115 Pierson Lane\nWinds
 or CT 06095\n\nTo add an event please email us\, we monitor for spam. We n
 eed a photo\, description and website for each submission - We do not acce
 pt submissions that are within the next 3 days. submissions at findingconn
 ecticut.com\n\n[caption id="attachment_16083" align="alignnone" width="300
 "] shop.findingconnecticut.com[/caption]\n\n 
ATTACH;FMTTYPE=image/jpeg:https://findingconnecticut.com/wp-content/upload
 s/2023/08/Screenshot-2023-08-16-at-7.44.17-PM.png
CATEGORIES:Windsor
LOCATION:Vintage Radio & Communications Museum\, 115 Pierson Lane\, Windsor
 \, Connecticut \, 06095 \, New England\, United States
X-APPLE-STRUCTURED-LOCATION;VALUE=URI;X-ADDRESS=115 Pierson Lane\, Windsor\
 , Connecticut \, 06095 \, New England\, United States;X-APPLE-RADIUS=100;X
 -TITLE=Vintage Radio & Communications Museum:geo:0,0
END:VEVENT
BEGIN:VTIMEZONE
TZID:America/New_York
X-LIC-LOCATION:America/New_York
BEGIN:STANDARD
DTSTART:20231105T010000
TZOFFSETFROM:-0400
TZOFFSETTO:-0500
TZNAME:EST
END:STANDARD
END:VTIMEZONE
END:VCALENDAR