BEGIN:VCALENDAR
VERSION:2.0
PRODID:-//wp-events-plugin.com//7.2.3.1//EN
TZID:America/New_York
X-WR-TIMEZONE:America/New_York
BEGIN:VEVENT
UID:2946@findingconnecticut.com
DTSTART;TZID=America/New_York:20230211T180000
DTEND;TZID=America/New_York:20230211T213000
DTSTAMP:20231010T173538Z
URL:https://findingconnecticut.com/events/swan-lake/
SUMMARY:Swan Lake
DESCRIPTION:Swan Lake\nFebruary 11\, 2024 • 6 pm\n Click here for more i
 nformation \n Garde Arts Center\n325 State Street\nNew London\, Connecti
 cut 06320\n\nTo add an event please email us\, we monitor for spam. We nee
 d a photo\, description and website for each submission - We do not accept
  submissions that are within the next 3 days. submissions at findingconnec
 ticut.com  \n\n[caption id="attachment_16083" align="alignnone" width="3
 00"] shop.findingconnecticut.com[/caption]
ATTACH;FMTTYPE=image/jpeg:https://findingconnecticut.com/wp-content/upload
 s/2023/10/unnamed.jpg
CATEGORIES:New London
LOCATION:The Garde Arts Center\, 325 State Street \, New London\, Connectic
 ut \, 06320\, New England\, United States
X-APPLE-STRUCTURED-LOCATION;VALUE=URI;X-ADDRESS=325 State Street \, New Lon
 don\, Connecticut \, 06320\, New England\, United States;X-APPLE-RADIUS=10
 0;X-TITLE=The Garde Arts Center:geo:0,0
END:VEVENT
BEGIN:VTIMEZONE
TZID:America/New_York
X-LIC-LOCATION:America/New_York
BEGIN:STANDARD
DTSTART:20221106T010000
TZOFFSETFROM:-0400
TZOFFSETTO:-0500
TZNAME:EST
END:STANDARD
END:VTIMEZONE
END:VCALENDAR