BEGIN:VCALENDAR
VERSION:2.0
PRODID:-//wp-events-plugin.com//7.2.3.1//EN
TZID:America/New_York
X-WR-TIMEZONE:America/New_York
BEGIN:VEVENT
UID:2070@findingconnecticut.com
DTSTART;TZID=America/New_York:20230815T094500
DTEND;TZID=America/New_York:20230815T114500
DTSTAMP:20230726T181921Z
URL:https://findingconnecticut.com/events/summer-youth-connection/
SUMMARY:Summer Youth Connection
DESCRIPTION:Summer Youth Connection\nAugust 15\, 2023\nClick here for more 
 information \n\nThe Norwalk Arts Space\n455 West Ave\n Norwalk\, CT 068
 50
ATTACH;FMTTYPE=image/jpeg:https://findingconnecticut.com/wp-content/upload
 s/2023/07/unnamed-2-4.jpg
CATEGORIES:Norwalk
LOCATION:The Norwalk Arts Space\, 455 West Ave\, Norwalk\, Connecticut\, 06
 850\, New England \, United States
X-APPLE-STRUCTURED-LOCATION;VALUE=URI;X-ADDRESS=455 West Ave\, Norwalk\, Co
 nnecticut\, 06850\, New England \, United States;X-APPLE-RADIUS=100;X-TITL
 E=The Norwalk Arts Space:geo:0,0
END:VEVENT
BEGIN:VTIMEZONE
TZID:America/New_York
X-LIC-LOCATION:America/New_York
BEGIN:DAYLIGHT
DTSTART:20230312T030000
TZOFFSETFROM:-0500
TZOFFSETTO:-0400
TZNAME:EDT
END:DAYLIGHT
END:VTIMEZONE
END:VCALENDAR