BEGIN:VCALENDAR
VERSION:2.0
PRODID:-//wp-events-plugin.com//7.2.3.1//EN
TZID:America/New_York
X-WR-TIMEZONE:America/New_York
BEGIN:VEVENT
UID:6165@findingconnecticut.com
DTSTART;TZID=America/New_York:20240530T170000
DTEND;TZID=America/New_York:20240530T190000
DTSTAMP:20240525T205306Z
URL:https://findingconnecticut.com/events/summer-stroll/
SUMMARY:Summer Stroll
DESCRIPTION:Summer Stroll\nMay 30\,  2024  •  5 PM\n Click here for m
 ore information \n\nTo add an event please email us\, we monitor for spam
 . We need a photo\, description and website for each submission - We do no
 t accept submissions that are within the next 3 days. submissions at findi
 ngconnecticut.com\n\n[caption id="attachment_16083" align="alignnone" widt
 h="300"] shop.findingconnecticut.com[/caption]
ATTACH;FMTTYPE=image/jpeg:https://findingconnecticut.com/wp-content/upload
 s/2024/05/20240516-DS-Summer-Stroll-Social.png
CATEGORIES:Storrs
END:VEVENT
BEGIN:VTIMEZONE
TZID:America/New_York
X-LIC-LOCATION:America/New_York
BEGIN:DAYLIGHT
DTSTART:20240310T030000
TZOFFSETFROM:-0500
TZOFFSETTO:-0400
TZNAME:EDT
END:DAYLIGHT
END:VTIMEZONE
END:VCALENDAR