BEGIN:VCALENDAR
VERSION:2.0
PRODID:-//wp-events-plugin.com//7.2.3.1//EN
TZID:America/New_York
X-WR-TIMEZONE:America/New_York
BEGIN:VEVENT
UID:2335@findingconnecticut.com
DTSTART;TZID=America/New_York:20230825T160000
DTEND;TZID=America/New_York:20230825T200000
DTSTAMP:20230819T163711Z
URL:https://findingconnecticut.com/events/student-art-exhibition-teen-tale
 nt-night/
SUMMARY:Student Art Exhibition / Teen Talent Night
DESCRIPTION:Student Art Exhibition / Teen Talent Night\nAugust 25\, 2023\n
  Click here for more information \n\n The Norwalk Arts Space\n455 West 
 Ave\n  Norwalk\, CT 06850\n\nTo add an event please email us\, we monitor
  for spam. We need a photo\, description and website for each submission -
  We do not accept submissions that are within the next 3 days. submissions
  at findingconnecticut.com  \n\n[caption id="attachment_16083" align="al
 ignnone" width="300"] shop.findingconnecticut.com[/caption]\n\n&nbsp\;
ATTACH;FMTTYPE=image/jpeg:https://findingconnecticut.com/wp-content/upload
 s/2023/08/norwalkartspaceflyer.jpg
CATEGORIES:Norwalk
LOCATION:The Norwalk Arts Space\, 455 West Ave\, Norwalk\, Connecticut\, 06
 850\, New England \, United States
X-APPLE-STRUCTURED-LOCATION;VALUE=URI;X-ADDRESS=455 West Ave\, Norwalk\, Co
 nnecticut\, 06850\, New England \, United States;X-APPLE-RADIUS=100;X-TITL
 E=The Norwalk Arts Space:geo:0,0
END:VEVENT
BEGIN:VTIMEZONE
TZID:America/New_York
X-LIC-LOCATION:America/New_York
BEGIN:DAYLIGHT
DTSTART:20230312T030000
TZOFFSETFROM:-0500
TZOFFSETTO:-0400
TZNAME:EDT
END:DAYLIGHT
END:VTIMEZONE
END:VCALENDAR