BEGIN:VCALENDAR
VERSION:2.0
PRODID:-//wp-events-plugin.com//7.2.3.1//EN
TZID:America/New_York
X-WR-TIMEZONE:America/New_York
BEGIN:VEVENT
UID:318@findingconnecticut.com
DTSTART;TZID=America/New_York:20230331T200000
DTEND;TZID=America/New_York:20230331T223000
DTSTAMP:20230214T211524Z
URL:https://findingconnecticut.com/events/straight-jokes-no-chaser-comedy-
 tour/
SUMMARY:Straight Jokes\, No Chaser Comedy Tour
DESCRIPTION:Straight Jokes\, No Chaser Comedy Tour\nMarch 31\, 2023. • 8 
 PM\n\nClick here for more information \nMohegan Sun \n1 Mohegan Sun Blvd
 .\nUncasville\, CT 06382\nTo add an event please email us\, we monitor for
  spam. We need a photo\, description and website for each submission - We 
 do not accept submissions that are within the next 3 days. submissions@fin
 dingconnecticut.com\n\n\n[caption id="attachment_16083" align="alignnone" 
 width="300"] shop.findingconnecticut.com[/caption]
ATTACH;FMTTYPE=image/jpeg:https://findingconnecticut.com/wp-content/upload
 s/2023/02/unnamed-247.jpg
CATEGORIES:Uncasville
LOCATION:Mohegan Sun\, 1 Mohegan Sun Blvd\, \, Uncasville\, \, Connecticut\
 , \, 06382\, New England \, United States
X-APPLE-STRUCTURED-LOCATION;VALUE=URI;X-ADDRESS=1 Mohegan Sun Blvd\, \, Unc
 asville\, \, Connecticut\, \, 06382\, New England \, United States;X-APPLE
 -RADIUS=100;X-TITLE=Mohegan Sun:geo:0,0
END:VEVENT
BEGIN:VTIMEZONE
TZID:America/New_York
X-LIC-LOCATION:America/New_York
BEGIN:DAYLIGHT
DTSTART:20230312T030000
TZOFFSETFROM:-0500
TZOFFSETTO:-0400
TZNAME:EDT
END:DAYLIGHT
END:VTIMEZONE
END:VCALENDAR