BEGIN:VCALENDAR
VERSION:2.0
PRODID:-//wp-events-plugin.com//7.2.3.1//EN
TZID:America/New_York
X-WR-TIMEZONE:America/New_York
BEGIN:VEVENT
UID:490@findingconnecticut.com
DTSTART;TZID=America/New_York:20230318T150000
DTEND;TZID=America/New_York:20230318T170000
DTSTAMP:20230220T192316Z
URL:https://findingconnecticut.com/events/storrs-winter-farmers-market-2/
SUMMARY:Storrs Winter Farmers Market
DESCRIPTION:Storrs Winter Farmers Market \nMarch 18\, 2023 • 3 PM - 5:00
  PM\n•\nMansfield Public Library\nBuchanan Auditorium\n54 Warrenville Ro
 ad\nMansfield Center\, Connecticut 06250\n•\nSince 1994\, Storrs Farmers
  Market has been proud to provide the greater Mansfield community with fre
 sh\, local produce\, meats\, dairy\, baked goods and more. Everything sol
 d at Storrs Farmers Market is grown and produced in Connecticut\, so the o
 fferings change with the seasons. Sign up for our weekly newsletters to
  learn what products will be available at each Market (bi-weekly during th
 e winter). December through April\, Storrs Winter Farmers Market is open
  first and third Saturdays\, winter 2022-2023 at the Buchanan Auditorium\
 , 54 Warrenville Road.\n•\nTo add an event please email us\, we monitor 
 for spam. We need a photo\, description and website for each submission - 
 We do not accept submissions that are within the next 3 days. submissions@
 findingconnecticut.com\n•\n\n[caption id="attachment_16083" align="align
 none" width="300"] shop.findingconnecticut.com[/caption]
ATTACH;FMTTYPE=image/jpeg:https://findingconnecticut.com/wp-content/upload
 s/2023/02/cambera-soap-angle.jpg
CATEGORIES:Mansfield Center
LOCATION:Storrs Winter Farmers Market\, 54 Warrenville Road\, Mansfield Cen
 ter\, Connecticut\, 06250\, United States
X-APPLE-STRUCTURED-LOCATION;VALUE=URI;X-ADDRESS=54 Warrenville Road\, Mansf
 ield Center\, Connecticut\, 06250\, United States;X-APPLE-RADIUS=100;X-TIT
 LE=Storrs Winter Farmers Market:geo:0,0
END:VEVENT
BEGIN:VTIMEZONE
TZID:America/New_York
X-LIC-LOCATION:America/New_York
BEGIN:DAYLIGHT
DTSTART:20230312T030000
TZOFFSETFROM:-0500
TZOFFSETTO:-0400
TZNAME:EDT
END:DAYLIGHT
END:VTIMEZONE
END:VCALENDAR