BEGIN:VCALENDAR
VERSION:2.0
PRODID:-//wp-events-plugin.com//7.2.3.1//EN
TZID:America/New_York
X-WR-TIMEZONE:America/New_York
BEGIN:VEVENT
UID:507@findingconnecticut.com
DTSTART;TZID=America/New_York:20230805T150000
DTEND;TZID=America/New_York:20230805T170000
DTSTAMP:20230220T200808Z
URL:https://findingconnecticut.com/events/storrs-farmers-market-14/
SUMMARY:Storrs Farmers Market
DESCRIPTION:Storrs Farmers Market\nAugust 5\, 2023 • 3 pm - 5 pm\n• \n
 Front Lawn Of Mansfield Town Hall\n4 S Eagleville Road\nStorrs\, CT 06268\
 n•\nDescription: Since 1994\, Storrs Farmers Market has been proud to p
 rovide the greater Mansfield community with fresh\, local produce\, meats\
 , dairy\, baked goods and more. Everything sold at Storrs Farmers Market 
 is grown and produced in Connecticut\, so the offerings change with the se
 asons. Sign up for our weekly newsletters to learn what products will b
 e available at each Market (bi-weekly during the winter). Storrs Farmers 
 Market is open every Saturday on the front lawn of the Mansfield Town Hall
  from May 1 through November 19\, 3 - 5 pm.\n•\nTo add an event please 
 email us\, we monitor for spam. We need a photo\, description and website 
 for each submission - We do not accept submissions that are within the nex
 t 3 days. submissions@findingconnecticut.com\n\n\n[caption id="attachment_
 16083" align="alignnone" width="300"] shop.findingconnecticut.com[/caption
 ]\n\n
ATTACH;FMTTYPE=image/jpeg:https://findingconnecticut.com/wp-content/upload
 s/2023/02/market-sign-at-town-hall.jpg
CATEGORIES:Storrs
LOCATION:Storrs Famers Market\, 4 S Eagleville Road \, Storrs\, Connecticut
  \, 06268\, New England\, United States
X-APPLE-STRUCTURED-LOCATION;VALUE=URI;X-ADDRESS=4 S Eagleville Road \, Stor
 rs\, Connecticut \, 06268\, New England\, United States;X-APPLE-RADIUS=100
 ;X-TITLE=Storrs Famers Market:geo:0,0
END:VEVENT
BEGIN:VTIMEZONE
TZID:America/New_York
X-LIC-LOCATION:America/New_York
BEGIN:DAYLIGHT
DTSTART:20230312T030000
TZOFFSETFROM:-0500
TZOFFSETTO:-0400
TZNAME:EDT
END:DAYLIGHT
END:VTIMEZONE
END:VCALENDAR