BEGIN:VCALENDAR
VERSION:2.0
PRODID:-//wp-events-plugin.com//7.2.3.1//EN
TZID:America/New_York
X-WR-TIMEZONE:America/New_York
BEGIN:VEVENT
UID:11576@findingconnecticut.com
DTSTART;TZID=America/New_York:20251114T100000
DTEND;TZID=America/New_York:20251114T120000
DTSTAMP:20250503T020042Z
URL:https://findingconnecticut.com/events/stone-soup-the-bushnell-hartford
 -ct-november-14-2025-10-am/
SUMMARY:Stone Soup
DESCRIPTION:Stone Soup\nNovember 14 2025  • 10 am\n\n Click here for mo
 re information \n\n The Bushnell\n166 Capitol Ave\nHartford\, CT 06106\n
 \n Click here to return to Finding Connecticut's home page\n\nTo add an e
 vent please email us\, we monitor for spam. We need a photo\, description 
 and website for each submission - We do not accept submissions that are wi
 thin the next 3 days. submissions@findingconnecticut.com\n\n[caption id="a
 ttachment_16083" align="alignnone" width="300"] shop.findingconnecticut.co
 m[/caption]\n\n&nbsp\;
ATTACH;FMTTYPE=image/jpeg:https://findingconnecticut.com/wp-content/upload
 s/2025/05/unnamed-57.png
CATEGORIES:Hartford
LOCATION:The Bushnell\, 166 Capitol Ave\, \, Hartford\,\, Connecticut\, \, 
 06106\, \, New England\, \, United States
X-APPLE-STRUCTURED-LOCATION;VALUE=URI;X-ADDRESS=166 Capitol Ave\, \, Hartfo
 rd\,\, Connecticut\, \, 06106\, \, New England\, \, United States;X-APPLE-
 RADIUS=100;X-TITLE=The Bushnell:geo:0,0
END:VEVENT
BEGIN:VTIMEZONE
TZID:America/New_York
X-LIC-LOCATION:America/New_York
BEGIN:STANDARD
DTSTART:20251102T010000
TZOFFSETFROM:-0400
TZOFFSETTO:-0500
TZNAME:EST
END:STANDARD
END:VTIMEZONE
END:VCALENDAR