BEGIN:VCALENDAR
VERSION:2.0
PRODID:-//wp-events-plugin.com//7.2.3.1//EN
TZID:America/New_York
X-WR-TIMEZONE:America/New_York
BEGIN:VEVENT
UID:11282@findingconnecticut.com
DTSTART;TZID=America/New_York:20250909T200000
DTEND;TZID=America/New_York:20250909T220000
DTSTAMP:20250627T162000Z
URL:https://findingconnecticut.com/events/stiff-little-fingers-district-mu
 sic-hall-norwalk-ct-september-9-2025/
SUMMARY:Stiff Little Fingers
DESCRIPTION:Stiff Little Fingers\nSeptember 9\, 2025\n\n Click here for mo
 re information \n\nDistrict Music Hall\n71 Wall Street\nNorwalk\, Connect
 icut 06850\nAs of March 2025\, all event listings require payment.\nTo sub
 mit your event\, please send the event details along with a photo and/or l
 ogo to submissions at findingconnecticut dot com. You can complete your pa
 yment here\nYour event will be published within 24 hours after both payme
 nt and all required information have been received.\nWe offer discounts fo
 r multiple event listings.\nThank you for supporting Finding Connecticut
 —your participation helps us grow our website and brand.\n(We do not pub
 lish any content that has to do with areas outside of Connecticut. If you 
 are looking to post on our Hudson Valley or New York City pages\, then con
 tact us via email.)\n\n\n[caption id="attachment_16083" align="alignnone" 
 width="300"] shop.findingconnecticut.com[/caption]
ATTACH;FMTTYPE=image/jpeg:https://findingconnecticut.com/wp-content/upload
 s/2025/04/stifflittlefingers_1080x1350px_InstagramPortrait.png
CATEGORIES:Norwalk
LOCATION:District Music Hall\, 71 Wall Street\, Norwalk\, Connecticut \, 06
 850\, New England \, United States
X-APPLE-STRUCTURED-LOCATION;VALUE=URI;X-ADDRESS=71 Wall Street\, Norwalk\, 
 Connecticut \, 06850\, New England \, United States;X-APPLE-RADIUS=100;X-T
 ITLE=District Music Hall:geo:0,0
END:VEVENT
BEGIN:VTIMEZONE
TZID:America/New_York
X-LIC-LOCATION:America/New_York
BEGIN:DAYLIGHT
DTSTART:20250309T030000
TZOFFSETFROM:-0500
TZOFFSETTO:-0400
TZNAME:EDT
END:DAYLIGHT
END:VTIMEZONE
END:VCALENDAR