BEGIN:VCALENDAR
VERSION:2.0
PRODID:-//wp-events-plugin.com//7.2.3.1//EN
TZID:America/New_York
X-WR-TIMEZONE:America/New_York
BEGIN:VEVENT
UID:723@findingconnecticut.com
DTSTART;TZID=America/New_York:20230624T193000
DTEND;TZID=America/New_York:20230624T223000
DTSTAMP:20230320T204326Z
URL:https://findingconnecticut.com/events/steve-miller-band/
SUMMARY:Steve Miller Band
DESCRIPTION:Steve Miller Band with Dave Mason \nSaturday June 24\, 2023   
 •  7:30 PM\n\n  Click here for more information\n\n   Hartford Healt
 hcare Amphitheater\n   500 Broad Street\n   Bridgeport\, CT 06604\n\nT
 o add an event please email us\, we monitor for spam. We need a photo\, de
 scription and website for each submission - We do not accept submissions t
 hat are within the next 3 days. submissions@findingconnecticut.com\n\n[cap
 tion id="attachment_16083" align="alignnone" width="300"] shop.findingconn
 ecticut.com[/caption]\n\n&nbsp\;
ATTACH;FMTTYPE=image/jpeg:https://findingconnecticut.com/wp-content/upload
 s/2023/03/steve_2015-blakesberg2.jpg
CATEGORIES:Bridgeport
LOCATION:Hartford HealthCare Amphitheater\, 500 Broad St\, \, Bridgeport\, 
 \, Connecticut\, \, 06604\,\, New England\, \, United States
X-APPLE-STRUCTURED-LOCATION;VALUE=URI;X-ADDRESS=500 Broad St\, \, Bridgepor
 t\, \, Connecticut\, \, 06604\,\, New England\, \, United States;X-APPLE-R
 ADIUS=100;X-TITLE=Hartford HealthCare Amphitheater:geo:0,0
END:VEVENT
BEGIN:VTIMEZONE
TZID:America/New_York
X-LIC-LOCATION:America/New_York
BEGIN:DAYLIGHT
DTSTART:20230312T030000
TZOFFSETFROM:-0500
TZOFFSETTO:-0400
TZNAME:EDT
END:DAYLIGHT
END:VTIMEZONE
END:VCALENDAR