BEGIN:VCALENDAR
VERSION:2.0
PRODID:-//wp-events-plugin.com//7.2.3.1//EN
TZID:America/New_York
X-WR-TIMEZONE:America/New_York
BEGIN:VEVENT
UID:2505@findingconnecticut.com
DTSTART;TZID=America/New_York:20230823T200000
DTEND;TZID=America/New_York:20230823T223000
DTSTAMP:20230826T160751Z
URL:https://findingconnecticut.com/events/stephane-wrembel-2/
SUMMARY:Stephane Wrembel
DESCRIPTION:Stephane Wrembel\nSeptember 23\, 2023\n Click here for more in
 formation\n\nTo add an event please email us\, we monitor for spam. We nee
 d a photo\, description and website for each   submission - We do not acc
 ept submissions that are within the next 3 days. submissions at findingcon
 necticut.com  \n\n[caption id="attachment_16083" align="alignnone" width
 ="300"] shop.findingconnecticut.com[/caption]
ATTACH;FMTTYPE=image/jpeg:https://findingconnecticut.com/wp-content/upload
 s/2023/08/Stephane-Wrembel-Quartet-2022-by-Rob-Davdison-1-2.jpg
CATEGORIES:East Haddam
LOCATION:The Sanctuary\,  59 Bogel Rd\, East Haddam\, Connecticut \,  06423
 \, New England\, United States
X-APPLE-STRUCTURED-LOCATION;VALUE=URI;X-ADDRESS= 59 Bogel Rd\, East Haddam\
 , Connecticut \,  06423\, New England\, United States;X-APPLE-RADIUS=100;X
 -TITLE=The Sanctuary:geo:0,0
END:VEVENT
BEGIN:VTIMEZONE
TZID:America/New_York
X-LIC-LOCATION:America/New_York
BEGIN:DAYLIGHT
DTSTART:20230312T030000
TZOFFSETFROM:-0500
TZOFFSETTO:-0400
TZNAME:EDT
END:DAYLIGHT
END:VTIMEZONE
END:VCALENDAR