BEGIN:VCALENDAR
VERSION:2.0
PRODID:-//wp-events-plugin.com//7.2.3.1//EN
TZID:America/New_York
X-WR-TIMEZONE:America/New_York
BEGIN:VEVENT
UID:6153@findingconnecticut.com
DTSTART;TZID=America/New_York:20240615T100000
DTEND;TZID=America/New_York:20240615T160000
DTSTAMP:20240525T194525Z
URL:https://findingconnecticut.com/events/steel-wheels-car-show/
SUMMARY:Steel & Wheels Car Show
DESCRIPTION:Steel &amp\; Wheels Car Show\nJune 15\, 2024\n\n Click here fo
 r more information \n\n Danbury Railway Museum \n120 White St\nDanbury\
 , CT 06810\n\nTo add an event please email us\, we monitor for spam. We ne
 ed a photo\, description and website for each submission - We do not accep
 t submissions that are within the next 3 days. submissions@findingconnecti
 cut.com\n\n[caption id="attachment_16083" align="alignnone" width="300"] s
 hop.findingconnecticut.com[/caption]
ATTACH;FMTTYPE=image/jpeg:https://findingconnecticut.com/wp-content/upload
 s/2024/05/IMG_6829-resized.jpg
CATEGORIES:Danbury
LOCATION:Danbury Railway Museum\, 120 White Street \, Danbury\, Connecticut
 \, 06810\, New England\, United States
X-APPLE-STRUCTURED-LOCATION;VALUE=URI;X-ADDRESS=120 White Street \, Danbury
 \, Connecticut\, 06810\, New England\, United States;X-APPLE-RADIUS=100;X-
 TITLE=Danbury Railway Museum:geo:0,0
END:VEVENT
BEGIN:VTIMEZONE
TZID:America/New_York
X-LIC-LOCATION:America/New_York
BEGIN:DAYLIGHT
DTSTART:20240310T030000
TZOFFSETFROM:-0500
TZOFFSETTO:-0400
TZNAME:EDT
END:DAYLIGHT
END:VTIMEZONE
END:VCALENDAR