BEGIN:VCALENDAR
VERSION:2.0
PRODID:-//wp-events-plugin.com//7.2.3.1//EN
TZID:America/New_York
X-WR-TIMEZONE:America/New_York
BEGIN:VEVENT
UID:11276@findingconnecticut.com
DTSTART;TZID=America/New_York:20260227T193000
DTEND;TZID=America/New_York:20260227T220000
DTSTAMP:20250426T155915Z
URL:https://findingconnecticut.com/events/stardew-valley-symphony-of-seaso
 ns-palace-theater-waterbury-ct-february-27-2026/
SUMMARY:Stardew Valley: Symphony of Season
DESCRIPTION:Stardew Valley: Symphony of Seasons\nFebruary 27\, 2026  • 7
 :30 PM\n\n Click here for more information \n\nThe Palace Theater \n100
  East Main Street\nWaterbury\, CT 06702\n\nTo add an event please email us
 \, we monitor for spam. We need a photo\, description and website for each
  submission - We do not accept submissions that are within the next 3 days
 . submissions at findingconnecticut.com\n\n[caption id="attachment_16083" 
 align="alignnone" width="300"] shop.findingconnecticut.com[/caption]
CATEGORIES:Waterbury
LOCATION:Palace Theater\, 100 E Main Street\, Waterbury\, Connecticut\, 067
 02\, New England\, United States
X-APPLE-STRUCTURED-LOCATION;VALUE=URI;X-ADDRESS=100 E Main Street\, Waterbu
 ry\, Connecticut\, 06702\, New England\, United States;X-APPLE-RADIUS=100;
 X-TITLE=Palace Theater:geo:0,0
END:VEVENT
BEGIN:VTIMEZONE
TZID:America/New_York
X-LIC-LOCATION:America/New_York
BEGIN:STANDARD
DTSTART:20251102T010000
TZOFFSETFROM:-0400
TZOFFSETTO:-0500
TZNAME:EST
END:STANDARD
END:VTIMEZONE
END:VCALENDAR