BEGIN:VCALENDAR
VERSION:2.0
PRODID:-//wp-events-plugin.com//7.2.3.1//EN
TZID:America/New_York
X-WR-TIMEZONE:America/New_York
BEGIN:VEVENT
UID:1296@findingconnecticut.com
DTSTART;TZID=America/New_York:20230711T180000
DTEND;TZID=America/New_York:20230711T223000
DTSTAMP:20230525T142524Z
URL:https://findingconnecticut.com/events/standards/
SUMMARY:Standards
DESCRIPTION:Standards with Invalids and The Most\nJuly 11\, 2023  • 6 PM
 \n  Click here for more information  \n\n The Beeracks \n250 Bradley St
 \nEast Haven\, CT 06512\n\nTo add an event please email us\, we monitor fo
 r spam. We need a photo\, description and website for each submission - We
  do not accept submissions that are within the next 3 days. submissions at
  findingconnecticut.com  \n\n[caption id="attachment_16083" align="align
 none" width="300"] shop.findingconnecticut.com[/caption]
ATTACH;FMTTYPE=image/jpeg:https://findingconnecticut.com/wp-content/upload
 s/2023/05/unnamed-51.jpg
CATEGORIES:East Haven
LOCATION:The Beeracks\, 250 Bradley St\, East Haven\, Connecticut \, 06512\
 , New England \, United States
X-APPLE-STRUCTURED-LOCATION;VALUE=URI;X-ADDRESS=250 Bradley St\, East Haven
 \, Connecticut \, 06512\, New England \, United States;X-APPLE-RADIUS=100;
 X-TITLE=The Beeracks:geo:0,0
END:VEVENT
BEGIN:VTIMEZONE
TZID:America/New_York
X-LIC-LOCATION:America/New_York
BEGIN:DAYLIGHT
DTSTART:20230312T030000
TZOFFSETFROM:-0500
TZOFFSETTO:-0400
TZNAME:EDT
END:DAYLIGHT
END:VTIMEZONE
END:VCALENDAR