BEGIN:VCALENDAR
VERSION:2.0
PRODID:-//wp-events-plugin.com//7.2.3.1//EN
TZID:America/New_York
X-WR-TIMEZONE:America/New_York
BEGIN:VEVENT
UID:473@findingconnecticut.com
DTSTART;TZID=America/New_York:20230916T160000
DTEND;TZID=America/New_York:20230916T180000
DTSTAMP:20230817T232104Z
URL:https://findingconnecticut.com/events/stafford-farmers-market-21/
SUMMARY:Stafford Farmers Market
DESCRIPTION:Stafford Farmers Market\nSeptember 16\, 2023 •  4 pm - 6 pm\
 n•\n51 Old Springfield Road\nStafford\, CT  06076\n(at Sun Valley Resor
 t)\n•\nWe offer a unique shopping experience consisting of farms\, food\
 , artisans and live music. Our goal is to help the community connect with 
 small local businesses and provide a way to do so while spending an enjoya
 ble Saturday evening out. Our market is ideal for a date night or bring th
 e whole family! Everything you will find at our market is CT grown\, CT ra
 ised\, handmade or hand crafted. We are located at the shady and picturesq
 ue field at the entrance of Sun Valley Resort. The market is open to the p
 ublic\, and leashed dogs are welcome.\n•\nTo add an event please email u
 s\, we monitor for spam. We need a photo\, description and website for eac
 h submission - We do not accept submissions that are within the next 3 day
 s. submissions@findingconnecticut.com\n•\n\n\n[caption id="attachment_16
 083" align="alignnone" width="300"] shop.findingconnecticut.com[/caption]
ATTACH;FMTTYPE=image/jpeg:https://findingconnecticut.com/wp-content/upload
 s/2023/02/2022-Logo.jpg
CATEGORIES:Stafford
LOCATION:Stafford Farmers Market\, 51 Old Springfield Road \, Stafford\, Co
 nnecticut \, 06076\, New England \, United States
X-APPLE-STRUCTURED-LOCATION;VALUE=URI;X-ADDRESS=51 Old Springfield Road \, 
 Stafford\, Connecticut \, 06076\, New England \, United States;X-APPLE-RAD
 IUS=100;X-TITLE=Stafford Farmers Market:geo:0,0
END:VEVENT
BEGIN:VTIMEZONE
TZID:America/New_York
X-LIC-LOCATION:America/New_York
BEGIN:DAYLIGHT
DTSTART:20230312T030000
TZOFFSETFROM:-0500
TZOFFSETTO:-0400
TZNAME:EDT
END:DAYLIGHT
END:VTIMEZONE
END:VCALENDAR