BEGIN:VCALENDAR
VERSION:2.0
PRODID:-//wp-events-plugin.com//7.2.3.1//EN
TZID:America/New_York
X-WR-TIMEZONE:America/New_York
BEGIN:VEVENT
UID:39@findingconnecticut.com
DTSTART;TZID=America/New_York:20230204T110000
DTEND;TZID=America/New_York:20230204T150000
DTSTAMP:20230130T015223Z
URL:https://findingconnecticut.com/events/stack-warz-hosted-by-caribbean-b
 red-bullies-kukis-n-kreme/
SUMMARY:"STACK WARZ"\, HOSTED BY: CARIBBEAN BRED BULLIES & KUKIS N KREME
DESCRIPTION:February 4\, 2023 • 11 AM\n\nFor more information click here
  \nXL Center\n1 Civic Center Plaza\nHartford\, CT 06103\nTo add an event 
 please email us\, we monitor for spam. We need a photo\, description and w
 ebsite for each submission - We do not accept submissions that are within 
 the next 3 days. submissions@findingconnecticut.com\n\n\n[caption id="atta
 chment_16083" align="alignnone" width="300"] shop.findingconnecticut.com[/
 caption]
ATTACH;FMTTYPE=image/jpeg:https://findingconnecticut.com/wp-content/upload
 s/2023/01/Screenshot-2023-01-29-at-8.49.56-PM.png
CATEGORIES:Hartford
LOCATION:People'sBank Arena\, 1 Civic Center Plaza\, Hartford\,  CT \, 0610
 3\, New England\, \, United States
X-APPLE-STRUCTURED-LOCATION;VALUE=URI;X-ADDRESS=1 Civic Center Plaza\, Hart
 ford\,  CT \, 06103\, New England\, \, United States;X-APPLE-RADIUS=100;X-
 TITLE=People'sBank Arena:geo:0,0
END:VEVENT
BEGIN:VTIMEZONE
TZID:America/New_York
X-LIC-LOCATION:America/New_York
BEGIN:STANDARD
DTSTART:20221106T010000
TZOFFSETFROM:-0400
TZOFFSETTO:-0500
TZNAME:EST
END:STANDARD
END:VTIMEZONE
END:VCALENDAR