BEGIN:VCALENDAR
VERSION:2.0
PRODID:-//wp-events-plugin.com//7.2.3.1//EN
TZID:America/New_York
X-WR-TIMEZONE:America/New_York
BEGIN:VEVENT
UID:2332@findingconnecticut.com
DTSTART;TZID=America/New_York:20230826T120000
DTEND;TZID=America/New_York:20230826T170000
DTSTAMP:20230817T184304Z
URL:https://findingconnecticut.com/events/st-judes-summer-music-festival/
SUMMARY:St. Judes Summer Music Festival
DESCRIPTION:Music Festival for St. Judes Connecticut\nAugust 26\, 2023  
 • 12 pm - 5 pm\n Click here for more information \n\n Lyman Orchards\
 nPowder Hill Rd\nMiddlefield\, CT 06455\n\nTo add an event please email us
 \, we monitor for spam. We need a photo\, description and website for each
  submission - We do not accept submissions that are within the next 3 days
 . submissions at findingconnecticut.com  \n\n[caption id="attachment_160
 83" align="alignnone" width="300"] shop.findingconnecticut.com[/caption]\n
 \n&nbsp\;
ATTACH;FMTTYPE=image/jpeg:https://findingconnecticut.com/wp-content/upload
 s/2023/08/Lyman-Orchards-Sets-Date-for-St.-Jude-Summer-Music-Festival.jpg
CATEGORIES:Middlefield
LOCATION:Lyman Orchards\, Powder Hill Rd\, Middlefield \, Connecticut\, 064
 55\, United States
X-APPLE-STRUCTURED-LOCATION;VALUE=URI;X-ADDRESS=Powder Hill Rd\, Middlefiel
 d \, Connecticut\, 06455\, United States;X-APPLE-RADIUS=100;X-TITLE=Lyman 
 Orchards:geo:0,0
END:VEVENT
BEGIN:VTIMEZONE
TZID:America/New_York
X-LIC-LOCATION:America/New_York
BEGIN:DAYLIGHT
DTSTART:20230312T030000
TZOFFSETFROM:-0500
TZOFFSETTO:-0400
TZNAME:EDT
END:DAYLIGHT
END:VTIMEZONE
END:VCALENDAR