BEGIN:VCALENDAR
VERSION:2.0
PRODID:-//wp-events-plugin.com//7.2.3.1//EN
TZID:America/New_York
X-WR-TIMEZONE:America/New_York
BEGIN:VEVENT
UID:5826@findingconnecticut.com
DTSTART;TZID=America/New_York:20240915T190000
DTEND;TZID=America/New_York:20240915T220000
DTSTAMP:20240503T192737Z
URL:https://findingconnecticut.com/events/squeeze-and-boy-george/
SUMMARY:Squeeze and Boy George
DESCRIPTION:Squeeze and Boy George\nSeptember 15\, 2024 • 7 PM\n\nClick h
 ere for more information \n Mohegan Sun \n1 Mohegan Sun Blvd.\nUncasvil
 le\, CT 06382\nClick here to return to Finding Connecticut's home page\nTo
  add an event please email us\, we monitor for spam. We need a photo\, des
 cription and website for each submission - We do not accept submissions th
 at are within the next 3 days. submissions@findingconnecticut.com\n\n\n[ca
 ption id="attachment_16083" align="alignnone" width="300"] shop.findingcon
 necticut.com[/caption]
ATTACH;FMTTYPE=image/jpeg:https://findingconnecticut.com/wp-content/upload
 s/2024/05/squeeze-and-boy-george_preview-scaled.jpg
CATEGORIES:Uncasville
LOCATION:Mohegan Sun\, 1 Mohegan Sun Blvd\, \, Uncasville\, \, Connecticut\
 , \, 06382\, New England \, United States
X-APPLE-STRUCTURED-LOCATION;VALUE=URI;X-ADDRESS=1 Mohegan Sun Blvd\, \, Unc
 asville\, \, Connecticut\, \, 06382\, New England \, United States;X-APPLE
 -RADIUS=100;X-TITLE=Mohegan Sun:geo:0,0
END:VEVENT
BEGIN:VTIMEZONE
TZID:America/New_York
X-LIC-LOCATION:America/New_York
BEGIN:DAYLIGHT
DTSTART:20240310T030000
TZOFFSETFROM:-0500
TZOFFSETTO:-0400
TZNAME:EDT
END:DAYLIGHT
END:VTIMEZONE
END:VCALENDAR