BEGIN:VCALENDAR
VERSION:2.0
PRODID:-//wp-events-plugin.com//7.2.3.1//EN
TZID:America/New_York
X-WR-TIMEZONE:America/New_York
BEGIN:VEVENT
UID:474@findingconnecticut.com
DTSTART;TZID=America/New_York:20230607T163000
DTEND;TZID=America/New_York:20230607T193000
DTSTAMP:20230219T221441Z
URL:https://findingconnecticut.com/events/spruce-street-market/
SUMMARY:Spruce Street Market
DESCRIPTION:Spruce Street Farmers Market \nJune 7\, 2023 • 4:30 pm - 7:3
 0 pm\n\n153 Spruce St.\nManchester\, CT 06040\n\n•\n\nVendor selections 
 are thoughtfully curated to include diverse Connecticut business owners an
 d products\, including: produce\, meats\, eggs\, maple syrup\, baked goods
 \, prepared foods\, coffee\, vegan offerings\, jewelry\, bath &amp\; body\
 , and more. Enjoy live music\, and featured food truck. See our exciting v
 endor line up and weekly themes at the Spruce Street Farmers Market Faceb
 ook page.\n\nIn addition to serving as a source for local foods\, the mark
 et accepts SNAP/EBT and WIC payments\, and will double the value of SNAP
  purchases up to $20.00 (spend $20.00 using your EBT card to receive an ad
 ditional $20.00 to spend on SNAP-eligible items). This program is sponsore
 d by End Hunger CT! and CT Fresh Match.\n\nFree parking &amp\; free admiss
 ion.Questions? Contact sprucestmarket@manchesterct.gov or (860)647-3089
 .\n•\nTo add an event please email us\, we monitor for spam. We need a p
 hoto\, description and website for each submission - We do not accept subm
 issions that are within the next 3 days. submissions@findingconnecticut.co
 m\n•\n\n\n[caption id="attachment_16083" align="alignnone" width="300"] 
 shop.findingconnecticut.com[/caption]
ATTACH;FMTTYPE=image/jpeg:https://findingconnecticut.com/wp-content/upload
 s/2023/02/634049B2-4F23-4E17-981E-3B2FD0CAE24B.jpeg
CATEGORIES:Manchester
LOCATION:Spruce Street Farmers Market\, 153 Spruce Street\, Manchester\, Co
 nnecticut\, 06040\, New England \, United States
X-APPLE-STRUCTURED-LOCATION;VALUE=URI;X-ADDRESS=153 Spruce Street\, Manches
 ter\, Connecticut\, 06040\, New England \, United States;X-APPLE-RADIUS=10
 0;X-TITLE=Spruce Street Farmers Market:geo:0,0
END:VEVENT
BEGIN:VTIMEZONE
TZID:America/New_York
X-LIC-LOCATION:America/New_York
BEGIN:DAYLIGHT
DTSTART:20230312T030000
TZOFFSETFROM:-0500
TZOFFSETTO:-0400
TZNAME:EDT
END:DAYLIGHT
END:VTIMEZONE
END:VCALENDAR