BEGIN:VCALENDAR
VERSION:2.0
PRODID:-//wp-events-plugin.com//7.2.3.1//EN
TZID:America/New_York
X-WR-TIMEZONE:America/New_York
BEGIN:VEVENT
UID:485@findingconnecticut.com
DTSTART;TZID=America/New_York:20230823T163000
DTEND;TZID=America/New_York:20230823T193000
DTSTAMP:20230219T225231Z
URL:https://findingconnecticut.com/events/spruce-street-market-12/
SUMMARY:Spruce Street Market
DESCRIPTION:Spruce Street Farmers Market \nAugust 23\, 2023 • 4:30 pm - 
 7:30 pm\n\n153 Spruce St.\nManchester\, CT 06040\n\n•\n\nVendor selectio
 ns are thoughtfully curated to include diverse Connecticut business owners
  and products\, including: produce\, meats\, eggs\, maple syrup\, baked go
 ods\, prepared foods\, coffee\, vegan offerings\, jewelry\, bath &amp\; bo
 dy\, and more. Enjoy live music\, and featured food truck. See our excitin
 g vendor line up and weekly themes at the Spruce Street Farmers Market Fa
 cebook page.\n\nIn addition to serving as a source for local foods\, the m
 arket accepts SNAP/EBT and WIC payments\, and will double the value of S
 NAP purchases up to $20.00 (spend $20.00 using your EBT card to receive an
  additional $20.00 to spend on SNAP-eligible items). This program is spons
 ored by End Hunger CT! and CT Fresh Match.\n\nFree parking &amp\; free adm
 ission.Questions? Contact sprucestmarket@manchesterct.gov or (860)647-3
 089.\n•\nTo add an event please email us\, we monitor for spam. We need 
 a photo\, description and website for each submission - We do not accept s
 ubmissions that are within the next 3 days. submissions@findingconnecticut
 .com\n•\n\n\n[caption id="attachment_16083" align="alignnone" width="300
 "] shop.findingconnecticut.com[/caption]
ATTACH;FMTTYPE=image/jpeg:https://findingconnecticut.com/wp-content/upload
 s/2023/02/634049B2-4F23-4E17-981E-3B2FD0CAE24B.jpeg
CATEGORIES:Manchester
LOCATION:Spruce Street Farmers Market\, 153 Spruce Street\, Manchester\, Co
 nnecticut\, 06040\, New England \, United States
X-APPLE-STRUCTURED-LOCATION;VALUE=URI;X-ADDRESS=153 Spruce Street\, Manches
 ter\, Connecticut\, 06040\, New England \, United States;X-APPLE-RADIUS=10
 0;X-TITLE=Spruce Street Farmers Market:geo:0,0
END:VEVENT
BEGIN:VTIMEZONE
TZID:America/New_York
X-LIC-LOCATION:America/New_York
BEGIN:DAYLIGHT
DTSTART:20230312T030000
TZOFFSETFROM:-0500
TZOFFSETTO:-0400
TZNAME:EDT
END:DAYLIGHT
END:VTIMEZONE
END:VCALENDAR