BEGIN:VCALENDAR
VERSION:2.0
PRODID:-//wp-events-plugin.com//7.2.3.1//EN
TZID:America/New_York
X-WR-TIMEZONE:America/New_York
BEGIN:VEVENT
UID:237@findingconnecticut.com
DTSTART;TZID=America/New_York:20230211T090000
DTEND;TZID=America/New_York:20230211T130000
DTSTAMP:20230211T030333Z
URL:https://findingconnecticut.com/events/spruce-street-farmers-market/
SUMMARY:Spruce Street Farmers Market
DESCRIPTION:Spruce Street Farmers Market \n160 Spruce Street\, Manchester\
 , Connecticut 06040\nFebruary 11\, 2023  •  9 AM - 1 PM\n\nFor more in
 formation click here \nTo add an event please email us\, we monitor for s
 pam. We need a photo\, description and website for each submission - We do
  not accept submissions that are within the next 3 days. submissions@findi
 ngconnecticut.com\n\n\n[caption id="attachment_16083" align="alignnone" wi
 dth="300"] shop.findingconnecticut.com[/caption]
ATTACH;FMTTYPE=image/jpeg:https://findingconnecticut.com/wp-content/upload
 s/2023/02/thumbnail_2e43e454-1b32-42cb-ae80-42823275514b.jpg
CATEGORIES:Manchester
LOCATION:Spruce Street Farmers Market\, 160 Spruce Street\, Manchester\, Co
 nnecticut \, 06040\, New England \, United States
X-APPLE-STRUCTURED-LOCATION;VALUE=URI;X-ADDRESS=160 Spruce Street\, Manches
 ter\, Connecticut \, 06040\, New England \, United States;X-APPLE-RADIUS=1
 00;X-TITLE=Spruce Street Farmers Market:geo:0,0
END:VEVENT
BEGIN:VTIMEZONE
TZID:America/New_York
X-LIC-LOCATION:America/New_York
BEGIN:STANDARD
DTSTART:20221106T010000
TZOFFSETFROM:-0400
TZOFFSETTO:-0500
TZNAME:EST
END:STANDARD
END:VTIMEZONE
END:VCALENDAR