BEGIN:VCALENDAR
VERSION:2.0
PRODID:-//wp-events-plugin.com//7.2.3.1//EN
TZID:America/New_York
X-WR-TIMEZONE:America/New_York
BEGIN:VEVENT
UID:13613@findingconnecticut.com
DTSTART;TZID=America/New_York:20260722T163000
DTEND;TZID=America/New_York:20260722T193000
DTSTAMP:20251226T021807Z
URL:https://findingconnecticut.com/events/spruce-street-farmers-market-202
 6-06-03-2026-06-10-2026-06-17-2026-06-24-2026-07-01-2026-07-08-2026-07-15-
 2026-07-22/
SUMMARY:Spruce Street Farmers Market 
DESCRIPTION:Spruce Street Farmers Market \n4:30 pm - 7:30 pm\n\n 153 Spru
 ce St\, Manchester\, CT 06040\n\nVendor selections are thoughtfully curate
 d to include diverse Connecticut business owners and products\, including:
  produce\, meats\, eggs\, maple syrup\, baked goods\, prepared foods\, cof
 fee\, vegan offerings\, jewelry\, bath &amp\; body\, and more. Enjoy live 
 music\, and featured food truck. See our exciting vendor line up and weekl
 y themes at the Spruce Street Farmers Market Facebook page.\n\nIn addition
  to serving as a source for local foods\, the market accepts SNAP/EBT and 
 WIC payments\, and will double the value of SNAP purchases up to $20.00 (s
 pend $20.00 using your EBT card to receive an additional $20.00 to spend o
 n SNAP-eligible items). This program is sponsored by End Hunger CT! and CT
  Fresh Match.\n\nFree parking &amp\; free admission.Questions? Contact spr
 ucestmarket@manchesterct.gov or (860)647-3089.\n\nShare your Spruce Stre
 et Farmers Market  experience with us by using #findingconnecticut on In
 stagram\n\nClick here to return to our home page.•\n\n[caption id="attac
 hment_16083" align="alignnone" width="300"] shop.findingconnecticut.com[/c
 aption]
ATTACH;FMTTYPE=image/jpeg:https://findingconnecticut.com/wp-content/upload
 s/2023/02/634049B2-4F23-4E17-981E-3B2FD0CAE24B-1.jpeg
CATEGORIES:Manchester
LOCATION:Spruce Street Farmers Market\, 153 Spruce Street\, Manchester\, Co
 nnecticut\, 06040\, New England \, United States
X-APPLE-STRUCTURED-LOCATION;VALUE=URI;X-ADDRESS=153 Spruce Street\, Manches
 ter\, Connecticut\, 06040\, New England \, United States;X-APPLE-RADIUS=10
 0;X-TITLE=Spruce Street Farmers Market:geo:0,0
END:VEVENT
BEGIN:VTIMEZONE
TZID:America/New_York
X-LIC-LOCATION:America/New_York
BEGIN:DAYLIGHT
DTSTART:20260308T030000
TZOFFSETFROM:-0500
TZOFFSETTO:-0400
TZNAME:EDT
END:DAYLIGHT
END:VTIMEZONE
END:VCALENDAR