BEGIN:VCALENDAR
VERSION:2.0
PRODID:-//wp-events-plugin.com//7.2.3.1//EN
TZID:America/New_York
X-WR-TIMEZONE:America/New_York
BEGIN:VEVENT
UID:1848@findingconnecticut.com
DTSTART;TZID=America/New_York:20231115T190000
DTEND;TZID=America/New_York:20231115T220000
DTSTAMP:20230712T182819Z
URL:https://findingconnecticut.com/events/springfield-thunderbirds-vs-hart
 ford-wolf-pack-3/
SUMMARY:Springfield Thunderbirds vs Hartford Wolf Pack
DESCRIPTION:Springfield Thunderbirds vs Hartford Wolf Pack\nNovember 15\, 2
 023  •  7 PM\n\n XL Center\n1 Civic Center Plaza\nHartford\, CT 06103
 \n\nTo add an event please email us\, we monitor for spam. We need a photo
 \, description and website for each submission - We do not accept submissi
 ons that are within the next 3 days. submissions at findingconnecticut.com
  \n\n\n[caption id="attachment_16083" align="alignnone" width="300"] shop
 .findingconnecticut.com[/caption]\n\n&nbsp\;
ATTACH;FMTTYPE=image/jpeg:https://findingconnecticut.com/wp-content/upload
 s/2021/08/iu.jpeg
CATEGORIES:Hartford
LOCATION:People'sBank Arena\, 1 Civic Center Plaza\, Hartford\,  CT \, 0610
 3\, New England\, \, United States
X-APPLE-STRUCTURED-LOCATION;VALUE=URI;X-ADDRESS=1 Civic Center Plaza\, Hart
 ford\,  CT \, 06103\, New England\, \, United States;X-APPLE-RADIUS=100;X-
 TITLE=People'sBank Arena:geo:0,0
END:VEVENT
BEGIN:VTIMEZONE
TZID:America/New_York
X-LIC-LOCATION:America/New_York
BEGIN:STANDARD
DTSTART:20231105T010000
TZOFFSETFROM:-0400
TZOFFSETTO:-0500
TZNAME:EST
END:STANDARD
END:VTIMEZONE
END:VCALENDAR