BEGIN:VCALENDAR
VERSION:2.0
PRODID:-//wp-events-plugin.com//7.2.3.1//EN
TZID:America/New_York
X-WR-TIMEZONE:America/New_York
BEGIN:VEVENT
UID:52@findingconnecticut.com
DTSTART;TZID=America/New_York:20230205T120000
DTEND;TZID=America/New_York:20230205T140000
DTSTAMP:20230130T025414Z
URL:https://findingconnecticut.com/events/south-carolina-gamecocks-vs-ucon
 n-huskies/
SUMMARY:South Carolina Gamecocks vs UConn Huskies
DESCRIPTION:South Carolina Gamecocks vs UConn Huskies\nFebruary 5\, 2023  
 •  12 PM\n\nXL Center\n1 Civic Center Plaza\nHartford\, CT 06103\nTo ad
 d an event please email us\, we monitor for spam. We need a photo\, descri
 ption and website for each submission - We do not accept submissions that 
 are within the next 3 days. submissions@findingconnecticut.com\n
ATTACH;FMTTYPE=image/jpeg:https://findingconnecticut.com/wp-content/upload
 s/2022/04/Primary-Dog.jpg
CATEGORIES:Hartford
LOCATION:People'sBank Arena\, 1 Civic Center Plaza\, Hartford\,  CT \, 0610
 3\, New England\, \, United States
X-APPLE-STRUCTURED-LOCATION;VALUE=URI;X-ADDRESS=1 Civic Center Plaza\, Hart
 ford\,  CT \, 06103\, New England\, \, United States;X-APPLE-RADIUS=100;X-
 TITLE=People'sBank Arena:geo:0,0
END:VEVENT
BEGIN:VTIMEZONE
TZID:America/New_York
X-LIC-LOCATION:America/New_York
BEGIN:STANDARD
DTSTART:20221106T010000
TZOFFSETFROM:-0400
TZOFFSETTO:-0500
TZNAME:EST
END:STANDARD
END:VTIMEZONE
END:VCALENDAR