BEGIN:VCALENDAR
VERSION:2.0
PRODID:-//wp-events-plugin.com//7.2.3.1//EN
TZID:America/New_York
X-WR-TIMEZONE:America/New_York
BEGIN:VEVENT
UID:1266@findingconnecticut.com
DTSTART;TZID=America/New_York:20230930T120000
DTEND;TZID=America/New_York:20230930T233000
DTSTAMP:20230517T150212Z
URL:https://findingconnecticut.com/events/sound-on-sound/
SUMMARY:Sound on Sound
DESCRIPTION:Sound on Sound\nSeptember 30\, 2023\n\nClick here for more info
 rmation\n\nSeaside Park\n1 Barnum Dyke\nBridgeport\, CT 06604\n\nTo add an
  event please email us\, we monitor for spam. We need a photo\, descriptio
 n and website for each submission - We do not accept submissions that are 
 within the next 3 days. submissions at findingconnecticut.com  \n\n[capt
 ion id="attachment_16083" align="alignnone" width="300"] shop.findingconne
 cticut.com[/caption]\n\n&nbsp\;
ATTACH;FMTTYPE=image/jpeg:https://findingconnecticut.com/wp-content/upload
 s/2023/03/unnamed-53.png
CATEGORIES:Bridgeport
LOCATION:Seaside Park\,  1 Barnum Dyke  \,  Bridgeport\, Connecticut\, 0
 6604\, United States
X-APPLE-STRUCTURED-LOCATION;VALUE=URI;X-ADDRESS= 1 Barnum Dyke  \,  Brid
 geport\, Connecticut\, 06604\, United States;X-APPLE-RADIUS=100;X-TITLE=Se
 aside Park:geo:0,0
END:VEVENT
BEGIN:VTIMEZONE
TZID:America/New_York
X-LIC-LOCATION:America/New_York
BEGIN:DAYLIGHT
DTSTART:20230312T030000
TZOFFSETFROM:-0500
TZOFFSETTO:-0400
TZNAME:EDT
END:DAYLIGHT
END:VTIMEZONE
END:VCALENDAR