BEGIN:VCALENDAR
VERSION:2.0
PRODID:-//wp-events-plugin.com//7.2.3.1//EN
TZID:America/New_York
X-WR-TIMEZONE:America/New_York
BEGIN:VEVENT
UID:1989@findingconnecticut.com
DTSTART;TZID=America/New_York:20230922T180000
DTEND;TZID=America/New_York:20230922T203000
DTSTAMP:20230720T150115Z
URL:https://findingconnecticut.com/events/somethings-happening-a-tribute-t
 o-peter-frampton/
SUMMARY:Something's Happening: A Tribute to Peter Frampton
DESCRIPTION:Something's Happening: A Tribute to Peter Frampton\nSeptember 2
 2 2023 at 6pm\n Click here for more information \n\n The Palace Theatre
 \n61 Atlantic Street\nStamford\, Connecticut 06901\n\nTo add an event plea
 se email us\, we monitor for spam. We need a photo\, description and websi
 te for each submission - We do not accept submissions that are within the 
 next 3 days. submissions at findingconnecticut.com  \n\n[caption id="att
 achment_16083" align="alignnone" width="300"] shop.findingconnecticut.com[
 /caption]
ATTACH;FMTTYPE=image/jpeg:https://findingconnecticut.com/wp-content/upload
 s/2023/07/Somethings-Happening-Feature.jpg
CATEGORIES:Stamford
LOCATION:The Palace\, 61 Atlantic Street\, Stamford \, Connecticut \, 06901
 \, New England\, United States
X-APPLE-STRUCTURED-LOCATION;VALUE=URI;X-ADDRESS=61 Atlantic Street\, Stamfo
 rd \, Connecticut \, 06901\, New England\, United States;X-APPLE-RADIUS=10
 0;X-TITLE=The Palace:geo:0,0
END:VEVENT
BEGIN:VTIMEZONE
TZID:America/New_York
X-LIC-LOCATION:America/New_York
BEGIN:DAYLIGHT
DTSTART:20230312T030000
TZOFFSETFROM:-0500
TZOFFSETTO:-0400
TZNAME:EDT
END:DAYLIGHT
END:VTIMEZONE
END:VCALENDAR