BEGIN:VCALENDAR
VERSION:2.0
PRODID:-//wp-events-plugin.com//7.2.3.1//EN
TZID:America/New_York
X-WR-TIMEZONE:America/New_York
BEGIN:VEVENT
UID:1809@findingconnecticut.com
DTSTART;TZID=America/New_York:20230812T190000
DTEND;TZID=America/New_York:20230812T210000
DTSTAMP:20230630T172313Z
URL:https://findingconnecticut.com/events/someone-you-can-xray/
SUMMARY:Someone You Can Xray
DESCRIPTION:Someone You Can Xray\nAugust 12\, 2023 • 7 pm – 9 pm\nClick
  here for more information \n\n  Leif Nilsson Spring Street Studio and G
 allery\n1 Spring Street\nChester\, CT 06412\n\nTo add an event please emai
 l us\, we monitor for spam. We need a photo\, description and website for 
 each submission – We do not accept submissions that are within the next 
 3 days. submissions at findingconnecticut.com\n\n[caption id="attachment_1
 6083" align="alignnone" width="300"] shop.findingconnecticut.com[/caption]
 \n\n&nbsp\;
ATTACH;FMTTYPE=image/jpeg:https://findingconnecticut.com/wp-content/upload
 s/2023/06/unnamed-4.jpg
CATEGORIES:Chester
LOCATION:Leif Nilsson Spring Street Studio and Gallery\,  1 Spring Street\,
  Chester\, Connecticut\, 06412\, New England\, United States
X-APPLE-STRUCTURED-LOCATION;VALUE=URI;X-ADDRESS= 1 Spring Street\, Chester\
 , Connecticut\, 06412\, New England\, United States;X-APPLE-RADIUS=100;X-T
 ITLE=Leif Nilsson Spring Street Studio and Gallery:geo:0,0
END:VEVENT
BEGIN:VTIMEZONE
TZID:America/New_York
X-LIC-LOCATION:America/New_York
BEGIN:DAYLIGHT
DTSTART:20230312T030000
TZOFFSETFROM:-0500
TZOFFSETTO:-0400
TZNAME:EDT
END:DAYLIGHT
END:VTIMEZONE
END:VCALENDAR