BEGIN:VCALENDAR
VERSION:2.0
PRODID:-//wp-events-plugin.com//7.2.3.1//EN
TZID:America/New_York
X-WR-TIMEZONE:America/New_York
BEGIN:VEVENT
UID:733@findingconnecticut.com
DTSTART;TZID=America/New_York:20230726T200000
DTEND;TZID=America/New_York:20230726T223000
DTSTAMP:20230324T181459Z
URL:https://findingconnecticut.com/events/social-distortion-w-the-bellrays
 /
SUMMARY:Social Distortion w/ The Bellrays
DESCRIPTION:Social Distortion w/ The Bellrays\nJuly 26\, 2023 • 8:00PM\n\
 nClick here for more information \n\n   College Street Music Hall\n238 
 College Street\nNew Haven\, CT 06510\n\nTo add an event please email us\, 
 we monitor for spam. We need a photo\, description and website for each su
 bmission - We do not accept submissions that are within the next 3 days. s
 ubmissions@findingconnecticut.com\n\n[caption id="attachment_16083" align=
 "alignnone" width="300"] shop.findingconnecticut.com[/caption]
ATTACH;FMTTYPE=image/jpeg:https://findingconnecticut.com/wp-content/upload
 s/2023/03/Screenshot-2023-03-21-at-11.56.34-AM.png
CATEGORIES:New Haven
LOCATION:College Street Music Hall\, 238 College St\, \, New Haven\, \, Con
 necticut \, 06510\, New England \, United States
X-APPLE-STRUCTURED-LOCATION;VALUE=URI;X-ADDRESS=238 College St\, \, New Hav
 en\, \, Connecticut \, 06510\, New England \, United States;X-APPLE-RADIUS
 =100;X-TITLE=College Street Music Hall:geo:0,0
END:VEVENT
BEGIN:VTIMEZONE
TZID:America/New_York
X-LIC-LOCATION:America/New_York
BEGIN:DAYLIGHT
DTSTART:20230312T030000
TZOFFSETFROM:-0500
TZOFFSETTO:-0400
TZNAME:EDT
END:DAYLIGHT
END:VTIMEZONE
END:VCALENDAR